BEGIN:VCALENDAR
VERSION:2.0
PRODID:-//Pärnu Muusikaool - ECPv6.15.17//NONSGML v1.0//EN
CALSCALE:GREGORIAN
METHOD:PUBLISH
X-WR-CALNAME:Pärnu Muusikaool
X-ORIGINAL-URL:https://muusikakool.ee
X-WR-CALDESC:Events for Pärnu Muusikaool
REFRESH-INTERVAL;VALUE=DURATION:PT1H
X-Robots-Tag:noindex
X-PUBLISHED-TTL:PT1H
BEGIN:VTIMEZONE
TZID:Europe/Tallinn
BEGIN:DAYLIGHT
TZOFFSETFROM:+0200
TZOFFSETTO:+0300
TZNAME:EEST
DTSTART:20220327T010000
END:DAYLIGHT
BEGIN:STANDARD
TZOFFSETFROM:+0300
TZOFFSETTO:+0200
TZNAME:EET
DTSTART:20221030T010000
END:STANDARD
BEGIN:DAYLIGHT
TZOFFSETFROM:+0200
TZOFFSETTO:+0300
TZNAME:EEST
DTSTART:20230326T010000
END:DAYLIGHT
BEGIN:STANDARD
TZOFFSETFROM:+0300
TZOFFSETTO:+0200
TZNAME:EET
DTSTART:20231029T010000
END:STANDARD
BEGIN:DAYLIGHT
TZOFFSETFROM:+0200
TZOFFSETTO:+0300
TZNAME:EEST
DTSTART:20240331T010000
END:DAYLIGHT
BEGIN:STANDARD
TZOFFSETFROM:+0300
TZOFFSETTO:+0200
TZNAME:EET
DTSTART:20241027T010000
END:STANDARD
BEGIN:DAYLIGHT
TZOFFSETFROM:+0200
TZOFFSETTO:+0300
TZNAME:EEST
DTSTART:20250330T010000
END:DAYLIGHT
BEGIN:STANDARD
TZOFFSETFROM:+0300
TZOFFSETTO:+0200
TZNAME:EET
DTSTART:20251026T010000
END:STANDARD
END:VTIMEZONE
BEGIN:VEVENT
DTSTART;TZID=Europe/Tallinn:20240105T180000
DTEND;TZID=Europe/Tallinn:20240105T190000
DTSTAMP:20260420T062523
CREATED:20231227T111403Z
LAST-MODIFIED:20231227T111403Z
UID:7234-1704477600-1704481200@muusikakool.ee
SUMMARY:Pärnu Muusikakooli ja Kunstide Kooli õpilaste kontsert Austria nädalal Cafe Grandis
DESCRIPTION:
URL:https://muusikakool.ee/sundmus/parnu-muusikakooli-ja-kunstide-kooli-opilaste-kontsert-austria-nadalal-cafe-grandis/
LOCATION:Cafe Grand\, Kuninga 25\, Pärnu\, 80014\, Estonia
END:VEVENT
BEGIN:VEVENT
DTSTART;TZID=Europe/Tallinn:20231221T000000
DTEND;TZID=Europe/Tallinn:20240107T235959
DTSTAMP:20260420T062523
CREATED:20230928T105605Z
LAST-MODIFIED:20230928T105605Z
UID:6991-1703116800-1704671999@muusikakool.ee
SUMMARY:Koolivaheaeg
DESCRIPTION:
URL:https://muusikakool.ee/sundmus/koolivaheaeg-5/
END:VEVENT
BEGIN:VEVENT
DTSTART;TZID=Europe/Tallinn:20231219T180000
DTEND;TZID=Europe/Tallinn:20231219T190000
DTSTAMP:20260420T062523
CREATED:20231102T151115Z
LAST-MODIFIED:20231202T135712Z
UID:7095-1703008800-1703012400@muusikakool.ee
SUMMARY:Vaskpilliõpilaste kontsert Pärnu Raekojas
DESCRIPTION:
URL:https://muusikakool.ee/sundmus/vaskpilliopilaste-kontsert-parnu-raekojas/
LOCATION:Pärnu Raekoda
END:VEVENT
BEGIN:VEVENT
DTSTART;TZID=Europe/Tallinn:20231218T180000
DTEND;TZID=Europe/Tallinn:20231218T190000
DTSTAMP:20260420T062523
CREATED:20230929T095447Z
LAST-MODIFIED:20231202T135625Z
UID:7005-1702922400-1702926000@muusikakool.ee
SUMMARY:Renata Marksalu klaveriõpilaste jõulukontsert Pärnu Raekojas
DESCRIPTION:
URL:https://muusikakool.ee/sundmus/renata-marksalu-klaveriopilaste-joulukontsert-2/
LOCATION:Pärnu Raekoda\, Nikolai 3\, Pärnu\, Estonia
END:VEVENT
BEGIN:VEVENT
DTSTART;TZID=Europe/Tallinn:20231216T130000
DTEND;TZID=Europe/Tallinn:20231216T140000
DTSTAMP:20260420T062523
CREATED:20230922T104830Z
LAST-MODIFIED:20231202T135441Z
UID:6896-1702731600-1702735200@muusikakool.ee
SUMMARY:Marika Kapi klaveriklassi jõulukontsert sessiooniruumis
DESCRIPTION:
URL:https://muusikakool.ee/sundmus/marika-kappi-klaveriklassi-joulukontsert/
LOCATION:Pärnu Kontserdimaja sessiooniruum\, Aida 4\, Pärnu\, 80010\, Estonia
END:VEVENT
BEGIN:VEVENT
DTSTART;TZID=Europe/Tallinn:20231216T120000
DTEND;TZID=Europe/Tallinn:20231216T130000
DTSTAMP:20260420T062523
CREATED:20231129T152349Z
LAST-MODIFIED:20231129T152349Z
UID:7192-1702728000-1702731600@muusikakool.ee
SUMMARY:Rütmimuusikaosakonna solistid ja bändid
DESCRIPTION:
URL:https://muusikakool.ee/sundmus/rutmimuusikaosakonna-solistid-ja-bandid/
LOCATION:Pärnu Kaubamajakas\, Papiniidu 8\, Pärnu\, Estonia
END:VEVENT
BEGIN:VEVENT
DTSTART;TZID=Europe/Tallinn:20231216T120000
DTEND;TZID=Europe/Tallinn:20231216T130000
DTSTAMP:20260420T062523
CREATED:20231110T132122Z
LAST-MODIFIED:20231211T143816Z
UID:7150-1702728000-1702731600@muusikakool.ee
SUMMARY:Emily Nora Elizabeth Urla saksofoniõpilaste jõulukontsert Pärnu Raekojas
DESCRIPTION:
URL:https://muusikakool.ee/sundmus/emily-nora-elizabeth-urla-saksofoniopilaste-joulukontsert-parnu-raekojas/
LOCATION:Pärnu Raekoda\, Nikolai 3\, Pärnu\, Estonia
END:VEVENT
BEGIN:VEVENT
DTSTART;TZID=Europe/Tallinn:20231215T173000
DTEND;TZID=Europe/Tallinn:20231215T183000
DTSTAMP:20260420T062523
CREATED:20231102T145117Z
LAST-MODIFIED:20231202T135126Z
UID:7072-1702661400-1702665000@muusikakool.ee
SUMMARY:Kitarriosakonna jõulukontsert Pärnu Raekojas
DESCRIPTION:
URL:https://muusikakool.ee/sundmus/kitarriosakonna-joulukontsert-2/
END:VEVENT
BEGIN:VEVENT
DTSTART;TZID=Europe/Tallinn:20231214T180000
DTEND;TZID=Europe/Tallinn:20231214T190000
DTSTAMP:20260420T062523
CREATED:20231020T101535Z
LAST-MODIFIED:20231201T170619Z
UID:7037-1702576800-1702580400@muusikakool.ee
SUMMARY:Rütmimuusikaosakonna bändide kontsert kohvikus Kastrul
DESCRIPTION:
URL:https://muusikakool.ee/sundmus/rutmimuusikaosakonna-bandide-kontsert-kohvikus-kastrul/
LOCATION:Kohvik Kastrul\, Lai 10\, Pärnu\, Estonia
END:VEVENT
BEGIN:VEVENT
DTSTART;TZID=Europe/Tallinn:20231214T160000
DTEND;TZID=Europe/Tallinn:20231214T180000
DTSTAMP:20260420T062523
CREATED:20231207T135939Z
LAST-MODIFIED:20231207T135939Z
UID:7221-1702569600-1702576800@muusikakool.ee
SUMMARY:Eesti Muusikakoolide Liidu Lääne-Pärnu regiooni juubelikontsert
DESCRIPTION:
URL:https://muusikakool.ee/sundmus/eesti-muusikakoolide-liidu-laane-parnu-regiooni-juubelikontsert/
LOCATION:Lihula Muusika- ja Kunstikool
END:VEVENT
BEGIN:VEVENT
DTSTART;TZID=Europe/Tallinn:20231213T180000
DTEND;TZID=Europe/Tallinn:20231213T190000
DTSTAMP:20260420T062523
CREATED:20231122T152533Z
LAST-MODIFIED:20231202T135028Z
UID:7166-1702490400-1702494000@muusikakool.ee
SUMMARY:Aaro Tetsmanni oreliõpilaste kontsert
DESCRIPTION:
URL:https://muusikakool.ee/sundmus/aaro-tetsmanni-oreliopilaste-kontsert/
LOCATION:Eliisabeti kirik\, Nikolai 22\, Pärnu\, Estonia
END:VEVENT
BEGIN:VEVENT
DTSTART;TZID=Europe/Tallinn:20231213T160000
DTEND;TZID=Europe/Tallinn:20231213T170000
DTSTAMP:20260420T062523
CREATED:20231020T101351Z
LAST-MODIFIED:20231201T170706Z
UID:7035-1702483200-1702486800@muusikakool.ee
SUMMARY:Rütmimuusikaosakonna solistide kontsert kohvikus Cello
DESCRIPTION:
URL:https://muusikakool.ee/sundmus/rutmimuusikaosakonna-solistide-kontsert-kohvikus-cello-2/
LOCATION:Pärnu Kontserdimaja kohvik Cello\, Aida 4\, Pärnu\, Estonia
END:VEVENT
BEGIN:VEVENT
DTSTART;TZID=Europe/Tallinn:20231212T180000
DTEND;TZID=Europe/Tallinn:20231212T190000
DTSTAMP:20260420T062523
CREATED:20231102T144947Z
LAST-MODIFIED:20231202T134940Z
UID:7070-1702404000-1702407600@muusikakool.ee
SUMMARY:Marju Mäe flöödi- ja Aita Kaaveri lauluõpilaste jõulukontsert Pärnu Raekojas
DESCRIPTION:
URL:https://muusikakool.ee/sundmus/marju-mae-floodi-ja-aita-kaaveri-lauluopilaste-kontsert/
LOCATION:Pärnu Raekoda\, Nikolai 3\, Pärnu\, Estonia
END:VEVENT
BEGIN:VEVENT
DTSTART;TZID=Europe/Tallinn:20231212T170000
DTEND;TZID=Europe/Tallinn:20231212T180000
DTSTAMP:20260420T062523
CREATED:20231201T165721Z
LAST-MODIFIED:20231201T165924Z
UID:7199-1702400400-1702404000@muusikakool.ee
SUMMARY:Anu Männi viiuliõpilaste jõulukontsert
DESCRIPTION:
URL:https://muusikakool.ee/sundmus/anu-manni-viiuliopilaste-joulukontsert/
LOCATION:Pärnu Kontserdimaja kammersaal\, Aida4\, Pärnu\, Estonia
END:VEVENT
BEGIN:VEVENT
DTSTART;TZID=Europe/Tallinn:20231211T180000
DTEND;TZID=Europe/Tallinn:20231211T193000
DTSTAMP:20260420T062523
CREATED:20230925T093847Z
LAST-MODIFIED:20231202T134826Z
UID:6898-1702317600-1702323000@muusikakool.ee
SUMMARY:Pärnu Muusikakooli jõuluootuse kontsert kammersaalis
DESCRIPTION:
URL:https://muusikakool.ee/sundmus/parnu-muusikakooli-joulukontsert-2/
LOCATION:Pärnu Kontserdimaja kammersaal\, Aida4\, Pärnu\, Estonia
END:VEVENT
BEGIN:VEVENT
DTSTART;TZID=Europe/Tallinn:20231210T120000
DTEND;TZID=Europe/Tallinn:20231210T130000
DTSTAMP:20260420T062523
CREATED:20231102T144751Z
LAST-MODIFIED:20231202T135753Z
UID:7068-1702209600-1702213200@muusikakool.ee
SUMMARY:Heli Sommeri tšelloõpilaste jõulukontsert Pärnu Raekojas
DESCRIPTION:
URL:https://muusikakool.ee/sundmus/heli-sommeri-tselloopilaste-joulukontsert/
LOCATION:Pärnu Raekoda\, Nikolai 3\, Pärnu\, Estonia
END:VEVENT
BEGIN:VEVENT
DTSTART;TZID=Europe/Tallinn:20231209T150000
DTEND;TZID=Europe/Tallinn:20231209T160000
DTSTAMP:20260420T062523
CREATED:20230926T114048Z
LAST-MODIFIED:20231122T152424Z
UID:6928-1702134000-1702137600@muusikakool.ee
SUMMARY:Külli Vabriti ja Helina Tamme klaveriõpilaste jõulukontsert Pärnu Raekojas
DESCRIPTION:
URL:https://muusikakool.ee/sundmus/kulli-vabriti-ja-helina-tamme-klaveriopilaste-joulukontsert/
LOCATION:Pärnu Raekoda\, Nikolai 3\, Pärnu\, Estonia
END:VEVENT
BEGIN:VEVENT
DTSTART;TZID=Europe/Tallinn:20231209T120000
DTEND;TZID=Europe/Tallinn:20231209T130000
DTSTAMP:20260420T062523
CREATED:20231106T160041Z
LAST-MODIFIED:20231129T151957Z
UID:7108-1702123200-1702126800@muusikakool.ee
SUMMARY:Rütmimuusikaosakonna bändide ja solistide kontsert
DESCRIPTION:
URL:https://muusikakool.ee/sundmus/rutmimuusikaosakonna-bandide-ja-solistide-kontsert-2/
LOCATION:Pärnu Keskuse LIVE lava\, Aida 7\, Pärnu\, Estonia
END:VEVENT
BEGIN:VEVENT
DTSTART;TZID=Europe/Tallinn:20231209T120000
DTEND;TZID=Europe/Tallinn:20231209T130000
DTSTAMP:20260420T062523
CREATED:20230928T103149Z
LAST-MODIFIED:20231201T165531Z
UID:6985-1702123200-1702126800@muusikakool.ee
SUMMARY:Elo Kalda kandleõpilaste jõulukontsert sessiooniruumis
DESCRIPTION:
URL:https://muusikakool.ee/sundmus/elo-kalda-kandleopilaste-joulukontsert/
LOCATION:Pärnu Kontserdimaja sessiooniruum\, Aida 4\, Pärnu\, 80010\, Estonia
END:VEVENT
BEGIN:VEVENT
DTSTART;TZID=Europe/Tallinn:20231207T180000
DTEND;TZID=Europe/Tallinn:20231207T190000
DTSTAMP:20260420T062523
CREATED:20230929T095251Z
LAST-MODIFIED:20231129T151813Z
UID:7001-1701972000-1701975600@muusikakool.ee
SUMMARY:Klaveriosakonna jõulukontsert Pärnu Raekojas
DESCRIPTION:
URL:https://muusikakool.ee/sundmus/klaveriosakonna-joulukontsert/
LOCATION:Pärnu Raekoda\, Nikolai 3\, Pärnu\, Estonia
END:VEVENT
BEGIN:VEVENT
DTSTART;TZID=Europe/Tallinn:20231207T173000
DTEND;TZID=Europe/Tallinn:20231207T183000
DTSTAMP:20260420T062523
CREATED:20231102T144625Z
LAST-MODIFIED:20231202T134532Z
UID:7066-1701970200-1701973800@muusikakool.ee
SUMMARY:Ülle Petrovitši ja Imbi Haugase klaveriõpilaste jõulukontsert väikses saalis
DESCRIPTION:
URL:https://muusikakool.ee/sundmus/ulle-petrovitsi-opilaste-joulukontsert/
LOCATION:Pärnu Muusikakooli väike saal\, Aida 4\, Pärnu\, Pärnu\, 80010\, Estonia
END:VEVENT
BEGIN:VEVENT
DTSTART;TZID=Europe/Tallinn:20231205T180000
DTEND;TZID=Europe/Tallinn:20231205T190000
DTSTAMP:20260420T062523
CREATED:20231102T144313Z
LAST-MODIFIED:20231129T151544Z
UID:7064-1701799200-1701802800@muusikakool.ee
SUMMARY:Indrek Oseleini õpilaste jõulukontsert Pärnu Raekojas
DESCRIPTION:
URL:https://muusikakool.ee/sundmus/indrek-oseleini-opilaste-joulukontsert/
LOCATION:Pärnu Raekoda\, Nikolai 3\, Pärnu\, Estonia
END:VEVENT
BEGIN:VEVENT
DTSTART;TZID=Europe/Tallinn:20231202T160000
DTEND;TZID=Europe/Tallinn:20231202T170000
DTSTAMP:20260420T062523
CREATED:20231108T135601Z
LAST-MODIFIED:20231108T135746Z
UID:7135-1701532800-1701536400@muusikakool.ee
SUMMARY:Heategevuskontsert JÕULUOOTUS Tallinna Pühavaimu kirikus
DESCRIPTION:
URL:https://muusikakool.ee/sundmus/heategevuskontsert-jouluootus/
END:VEVENT
BEGIN:VEVENT
DTSTART;TZID=Europe/Tallinn:20231202T140000
DTEND;TZID=Europe/Tallinn:20231202T150000
DTSTAMP:20260420T062523
CREATED:20231011T123630Z
LAST-MODIFIED:20231129T150152Z
UID:7014-1701525600-1701529200@muusikakool.ee
SUMMARY:Leonora Palu ja Anne Rajaste õpilaste jõuluootuse kontsert Pärnu Raekojas
DESCRIPTION:
URL:https://muusikakool.ee/sundmus/leonora-palu-ja-anne-rajaste-opilaste-jouluootuse-kontsert/
LOCATION:Pärnu Raekoda\, Nikolai 3\, Pärnu\, Estonia
END:VEVENT
BEGIN:VEVENT
DTSTART;TZID=Europe/Tallinn:20231130T190000
DTEND;TZID=Europe/Tallinn:20231130T210000
DTSTAMP:20260420T062523
CREATED:20231107T132905Z
LAST-MODIFIED:20231107T133313Z
UID:7127-1701370800-1701378000@muusikakool.ee
SUMMARY:Rütmimuusika ansambli meistrikursused Pärnumaa muusikakoolidele
DESCRIPTION:Info ja registreerimine Eesti Rütmimuusika Hariduse Liidu kodulehel.
URL:https://muusikakool.ee/sundmus/rutmimuusika-ansambli-meistrikursused/
LOCATION:NeatBiit Stuudio\, Lai 10\, Pärnu\, 80010
END:VEVENT
BEGIN:VEVENT
DTSTART;TZID=Europe/Tallinn:20231125T000000
DTEND;TZID=Europe/Tallinn:20231126T235959
DTSTAMP:20260420T062523
CREATED:20230922T104452Z
LAST-MODIFIED:20230922T104601Z
UID:6893-1700870400-1701043199@muusikakool.ee
SUMMARY:Pärnu Kitarripäevad
DESCRIPTION:
URL:https://muusikakool.ee/sundmus/parnu-kitarripaevad/
LOCATION:Pärnu Muusikakool\, Aida 4\, Pärnu\, Pärnumaa\, 80010\, Estonia
END:VEVENT
BEGIN:VEVENT
DTSTART;TZID=Europe/Tallinn:20231123T180000
DTEND;TZID=Europe/Tallinn:20231123T190000
DTSTAMP:20260420T062523
CREATED:20231020T101241Z
LAST-MODIFIED:20231102T140907Z
UID:7033-1700762400-1700766000@muusikakool.ee
SUMMARY:Rütmimuusikaosakonna bändide kontsert Wunderbaaris
DESCRIPTION:
URL:https://muusikakool.ee/sundmus/rutmimuusikaosakonna-bandide-kontsert-wunderbaaris/
LOCATION:Wunderbaar\, Lai 10/1\, Pärnu\, Estonia
END:VEVENT
BEGIN:VEVENT
DTSTART;TZID=Europe/Tallinn:20231120T160000
DTEND;TZID=Europe/Tallinn:20231120T170000
DTSTAMP:20260420T062523
CREATED:20231020T101057Z
LAST-MODIFIED:20231102T145508Z
UID:7031-1700496000-1700499600@muusikakool.ee
SUMMARY:Rütmimuusikaosakonna solistide kontsert kohvikus Cello
DESCRIPTION:
URL:https://muusikakool.ee/sundmus/rutmimuusikaosakonna-solistide-kontsert-kohvikus-cello/
LOCATION:Pärnu Kontserdimaja kohvik Cello\, Aida 4\, Pärnu\, Estonia
END:VEVENT
BEGIN:VEVENT
DTSTART;TZID=Europe/Tallinn:20231120T150000
DTEND;TZID=Europe/Tallinn:20231120T170000
DTSTAMP:20260420T062523
CREATED:20230922T104305Z
LAST-MODIFIED:20231102T145459Z
UID:6891-1700492400-1700499600@muusikakool.ee
SUMMARY:Klaveriosakonna NOBENÄPUPÄEV kammersaalis
DESCRIPTION:Esinevad klaveriosakonna õpilased.
URL:https://muusikakool.ee/sundmus/klaveriosakonna-noenapupaev/
LOCATION:Pärnu Kontserdimaja kammersaal\, Aida4\, Pärnu\, Estonia
END:VEVENT
BEGIN:VEVENT
DTSTART;TZID=Europe/Tallinn:20231108T180000
DTEND;TZID=Europe/Tallinn:20231108T190000
DTSTAMP:20260420T062523
CREATED:20231012T101448Z
LAST-MODIFIED:20231102T145451Z
UID:7019-1699466400-1699470000@muusikakool.ee
SUMMARY:Kontsert MINU ESIMENE ESINEMINE 2 kammersaalis
DESCRIPTION:Esinevad esimese õppeaasta õpilased
URL:https://muusikakool.ee/sundmus/kontsert-minu-esimene-esinemine-2/
LOCATION:Pärnu Kontserdimaja kammersaal\, Aida4\, Pärnu\, Estonia
END:VEVENT
END:VCALENDAR