BEGIN:VCALENDAR
VERSION:2.0
PRODID:-//Pärnu Muusikaool - ECPv6.15.17//NONSGML v1.0//EN
CALSCALE:GREGORIAN
METHOD:PUBLISH
X-WR-CALNAME:Pärnu Muusikaool
X-ORIGINAL-URL:https://muusikakool.ee
X-WR-CALDESC:Events for Pärnu Muusikaool
REFRESH-INTERVAL;VALUE=DURATION:PT1H
X-Robots-Tag:noindex
X-PUBLISHED-TTL:PT1H
BEGIN:VTIMEZONE
TZID:Europe/Tallinn
BEGIN:DAYLIGHT
TZOFFSETFROM:+0200
TZOFFSETTO:+0300
TZNAME:EEST
DTSTART:20220327T010000
END:DAYLIGHT
BEGIN:STANDARD
TZOFFSETFROM:+0300
TZOFFSETTO:+0200
TZNAME:EET
DTSTART:20221030T010000
END:STANDARD
BEGIN:DAYLIGHT
TZOFFSETFROM:+0200
TZOFFSETTO:+0300
TZNAME:EEST
DTSTART:20230326T010000
END:DAYLIGHT
BEGIN:STANDARD
TZOFFSETFROM:+0300
TZOFFSETTO:+0200
TZNAME:EET
DTSTART:20231029T010000
END:STANDARD
BEGIN:DAYLIGHT
TZOFFSETFROM:+0200
TZOFFSETTO:+0300
TZNAME:EEST
DTSTART:20240331T010000
END:DAYLIGHT
BEGIN:STANDARD
TZOFFSETFROM:+0300
TZOFFSETTO:+0200
TZNAME:EET
DTSTART:20241027T010000
END:STANDARD
BEGIN:DAYLIGHT
TZOFFSETFROM:+0200
TZOFFSETTO:+0300
TZNAME:EEST
DTSTART:20250330T010000
END:DAYLIGHT
BEGIN:STANDARD
TZOFFSETFROM:+0300
TZOFFSETTO:+0200
TZNAME:EET
DTSTART:20251026T010000
END:STANDARD
END:VTIMEZONE
BEGIN:VEVENT
DTSTART;TZID=Europe/Tallinn:20240511T120000
DTEND;TZID=Europe/Tallinn:20240511T130000
DTSTAMP:20260420T045436
CREATED:20240408T143420Z
LAST-MODIFIED:20240502T120537Z
UID:7376-1715428800-1715432400@muusikakool.ee
SUMMARY:Kristiina Birki viiuliklassi kontsert Pärnu Raekojas
DESCRIPTION:
URL:https://muusikakool.ee/sundmus/kristiina-birki-viiuliklassi-kontsert-parnu-raekojas/
LOCATION:Pärnu Raekoda
END:VEVENT
BEGIN:VEVENT
DTSTART;TZID=Europe/Tallinn:20240508T173000
DTEND;TZID=Europe/Tallinn:20240508T183000
DTSTAMP:20260420T045436
CREATED:20240322T135838Z
LAST-MODIFIED:20240502T115156Z
UID:7353-1715189400-1715193000@muusikakool.ee
SUMMARY:Eve Endoja klaveriõpilaste kevadkontsert Pärnu Raekojas
DESCRIPTION:
URL:https://muusikakool.ee/sundmus/eve-endoja-klaveriopilaste-kevadkontsert-parnu-raekojas/
LOCATION:Pärnu Raekoda\, Nikolai 3\, Pärnu\, Estonia
END:VEVENT
BEGIN:VEVENT
DTSTART;TZID=Europe/Tallinn:20240507T170000
DTEND;TZID=Europe/Tallinn:20240507T180000
DTSTAMP:20260420T045436
CREATED:20240502T112608Z
LAST-MODIFIED:20240502T113502Z
UID:7449-1715101200-1715104800@muusikakool.ee
SUMMARY:Leonora Palu flöödi- ja Jaana Kivisilla ja Anne Rajaste klaveriõpilaste kontsert
DESCRIPTION:
URL:https://muusikakool.ee/sundmus/leonora-palu-floodi-ja-jaana-kivisilla-ja-anne-rajaste-klaveriopilaste-kontsert/
LOCATION:Pärnu Uue Kunsti Muuseum\, Rüütli 40a\, Pärnu\, 80025\, Estonia
END:VEVENT
BEGIN:VEVENT
DTSTART;TZID=Europe/Tallinn:20240502T170000
DTEND;TZID=Europe/Tallinn:20240502T180000
DTSTAMP:20260420T045436
CREATED:20240408T134424Z
LAST-MODIFIED:20240502T115251Z
UID:7364-1714669200-1714672800@muusikakool.ee
SUMMARY:Indrek Oseleini klaveriõpilaste kontsert väikses saalis
DESCRIPTION:
URL:https://muusikakool.ee/sundmus/indrek-oseleini-klaveriopilaste-kontsert-vaikses-saalis/
LOCATION:Pärnu Muusikakooli väike saal\, Aida 4\, Pärnu\, Pärnu\, 80010\, Estonia
END:VEVENT
BEGIN:VEVENT
DTSTART;TZID=Europe/Tallinn:20240429T180000
DTEND;TZID=Europe/Tallinn:20240429T190000
DTSTAMP:20260420T045436
CREATED:20240412T110743Z
LAST-MODIFIED:20240412T110919Z
UID:7422-1714413600-1714417200@muusikakool.ee
SUMMARY:Pärnu Muusikakooli sümfooniaorkestri kontsert kammersaalis
DESCRIPTION:Dirigent Rein Vendla
URL:https://muusikakool.ee/sundmus/parnu-muusikakooli-sumfooniaorkester/
LOCATION:Pärnu Kontserdimaja kammersaal\, Aida4\, Pärnu\, Estonia
END:VEVENT
BEGIN:VEVENT
DTSTART;TZID=Europe/Tallinn:20240422T000000
DTEND;TZID=Europe/Tallinn:20240428T235959
DTSTAMP:20260420T045436
CREATED:20230928T105639Z
LAST-MODIFIED:20230928T105640Z
UID:6993-1713744000-1714348799@muusikakool.ee
SUMMARY:Koolivaheaeg
DESCRIPTION:
URL:https://muusikakool.ee/sundmus/koolivaheaeg-6/
END:VEVENT
BEGIN:VEVENT
DTSTART;TZID=Europe/Tallinn:20240421T130000
DTEND;TZID=Europe/Tallinn:20240421T140000
DTSTAMP:20260420T045436
CREATED:20240417T110938Z
LAST-MODIFIED:20240417T111031Z
UID:7442-1713704400-1713708000@muusikakool.ee
SUMMARY:Klavessiinifestivali noortekontsert Tallinna Kadrioru lossis
DESCRIPTION:
URL:https://muusikakool.ee/sundmus/klavessiinifestivali-noortekontsert-tallinna-kadrioru-lossis/
LOCATION:Tallinna Kadrioru loss\, Weizenbergi 37\, Tallinn\, 10127\, Estonia
END:VEVENT
BEGIN:VEVENT
DTSTART;TZID=Europe/Tallinn:20240418T180000
DTEND;TZID=Europe/Tallinn:20240418T190000
DTSTAMP:20260420T045436
CREATED:20240412T113613Z
LAST-MODIFIED:20240412T113721Z
UID:7435-1713463200-1713466800@muusikakool.ee
SUMMARY:RMO bändid Paikuse Music Splashil
DESCRIPTION:
URL:https://muusikakool.ee/sundmus/rmo-bandid-paikuse-music-splashil/
LOCATION:Paikuse Kool\, Paide mnt 19\, Paikuse\, 86602\, Estonia
END:VEVENT
BEGIN:VEVENT
DTSTART;TZID=Europe/Tallinn:20240418T180000
DTEND;TZID=Europe/Tallinn:20240418T190000
DTSTAMP:20260420T045436
CREATED:20240409T120844Z
LAST-MODIFIED:20240410T122001Z
UID:7392-1713463200-1713466800@muusikakool.ee
SUMMARY:Rütmimuusikaosakonna bändide kontsert kohvikus Kastrul - Jazzkaare linnaruumi projekt
DESCRIPTION:
URL:https://muusikakool.ee/sundmus/rutmimuusikaosakonna-bandide-kontsert-kohvikus-kastrul-jazzkaare-linnaruumi-projekt/
LOCATION:Kohvik Kastrul\, Lai 10\, Pärnu\, Estonia
END:VEVENT
BEGIN:VEVENT
DTSTART;TZID=Europe/Tallinn:20240416T160000
DTEND;TZID=Europe/Tallinn:20240416T170000
DTSTAMP:20260420T045436
CREATED:20231108T142008Z
LAST-MODIFIED:20240408T115908Z
UID:7146-1713283200-1713286800@muusikakool.ee
SUMMARY:Klaveriosakonna kevadkontsert kammersaalis
DESCRIPTION:
URL:https://muusikakool.ee/sundmus/klaveriosakonna-kevadkontsert-kammersaalis/
LOCATION:Pärnu Kontserdimaja kammersaal\, Aida4\, Pärnu\, Estonia
END:VEVENT
BEGIN:VEVENT
DTSTART;TZID=Europe/Tallinn:20240411T180000
DTEND;TZID=Europe/Tallinn:20240411T190000
DTSTAMP:20260420T045436
CREATED:20240312T132521Z
LAST-MODIFIED:20240312T132521Z
UID:7335-1712858400-1712862000@muusikakool.ee
SUMMARY:Pärnu Muusikakooli rütmimuusikaosakonna solistide ja bändide kontsert
DESCRIPTION:
URL:https://muusikakool.ee/sundmus/parnu-muusikakooli-rutmimuusikaosakonna-solistide-ja-bandide-kontsert/
END:VEVENT
BEGIN:VEVENT
DTSTART;TZID=Europe/Tallinn:20240328T180000
DTEND;TZID=Europe/Tallinn:20240328T200000
DTSTAMP:20260420T045436
CREATED:20230928T110028Z
LAST-MODIFIED:20240312T114723Z
UID:6995-1711648800-1711656000@muusikakool.ee
SUMMARY:Kontsert Muusa puudutus Pärnu Kontserdimajas
DESCRIPTION:Pärnu Linnaorkestri ees esinevad Pärnumaa muusikakoolide õpilased \n\n\n\nKoostöös Pärnu Linnaorkestriga
URL:https://muusikakool.ee/sundmus/kontsert-muusa-puudutus/
LOCATION:Pärnu Kontserdimaja suur saal\, Aida 4\, Pärnu\, Estonia
END:VEVENT
BEGIN:VEVENT
DTSTART;TZID=Europe/Tallinn:20240325T160000
DTEND;TZID=Europe/Tallinn:20240325T170000
DTSTAMP:20260420T045436
CREATED:20240312T115611Z
LAST-MODIFIED:20240312T115624Z
UID:7330-1711382400-1711386000@muusikakool.ee
SUMMARY:Pärnu Muusikakooli rütmimuusikaosakonna solistide kontsert
DESCRIPTION:
URL:https://muusikakool.ee/sundmus/parnu-muusikakooli-rutmimuusikaosakonna-solistide-kontsert/
LOCATION:Pärnu Kontserdimaja kohvik Cello\, Aida 4\, Pärnu\, Estonia
END:VEVENT
BEGIN:VEVENT
DTSTART;TZID=Europe/Tallinn:20240320T180000
DTEND;TZID=Europe/Tallinn:20240320T190000
DTSTAMP:20260420T045436
CREATED:20240312T115249Z
LAST-MODIFIED:20240312T115249Z
UID:7328-1710957600-1710961200@muusikakool.ee
SUMMARY:Pärnu Muusikakooli rütmimuusikaosakonna bändide kontsert
DESCRIPTION:
URL:https://muusikakool.ee/sundmus/parnu-muusikakooli-rutmimuusikaosakonna-bandide-kontsert-2/
LOCATION:Wunderbaar\, Lai 10/1\, Pärnu\, Estonia
END:VEVENT
BEGIN:VEVENT
DTSTART;TZID=Europe/Tallinn:20240312T120000
DTEND;TZID=Europe/Tallinn:20240312T163000
DTSTAMP:20260420T045436
CREATED:20231108T141557Z
LAST-MODIFIED:20240312T114505Z
UID:7144-1710244800-1710261000@muusikakool.ee
SUMMARY:Eesti Muusikakoolide Liidu konkursi "Parim noor instrumentalist 2024" viiuliõpilaste regionaalne voor kammersaalis
DESCRIPTION:
URL:https://muusikakool.ee/sundmus/eesti-muusikakoolide-liidu-konkursi-parim-noor-instrumentalist-2024-viiuliopilaste-regionaalne-voor-kammersaalis/
LOCATION:Pärnu Kontserdimaja kammersaal\, Aida4\, Pärnu\, Estonia
END:VEVENT
BEGIN:VEVENT
DTSTART;TZID=Europe/Tallinn:20240226T000000
DTEND;TZID=Europe/Tallinn:20240303T235959
DTSTAMP:20260420T045436
CREATED:20230929T095059Z
LAST-MODIFIED:20230929T095100Z
UID:6999-1708905600-1709510399@muusikakool.ee
SUMMARY:Koolivaheaeg
DESCRIPTION:
URL:https://muusikakool.ee/sundmus/koolivaheaeg-7/
END:VEVENT
BEGIN:VEVENT
DTSTART;TZID=Europe/Tallinn:20240221T160000
DTEND;TZID=Europe/Tallinn:20240221T170000
DTSTAMP:20260420T045436
CREATED:20240205T161333Z
LAST-MODIFIED:20240205T161333Z
UID:7296-1708531200-1708534800@muusikakool.ee
SUMMARY:Rütmimuusikaosakonna solistide kontsert Cello kohvikus
DESCRIPTION:
URL:https://muusikakool.ee/sundmus/rutmimuusikaosakonna-solistide-kontsert-cello-kohvikus-3/
LOCATION:Pärnu Kontserdimaja kohvik Cello\, Aida 4\, Pärnu\, Estonia
END:VEVENT
BEGIN:VEVENT
DTSTART;TZID=Europe/Tallinn:20240219T110000
DTEND;TZID=Europe/Tallinn:20240219T140000
DTSTAMP:20260420T045436
CREATED:20231108T141415Z
LAST-MODIFIED:20231108T141415Z
UID:7142-1708340400-1708351200@muusikakool.ee
SUMMARY:Eesti Muusikakoolide Liidu konkurss "Parim noor instrumentalist 2024" kitarriõpilaste regionaalne voor kammersaalis
DESCRIPTION:
URL:https://muusikakool.ee/sundmus/eesti-muusikakoolide-liidu-konkurss-parim-noor-instrumentalist-2024-kitarriopilaste-regionaalne-voor-kammersaalis/
LOCATION:Pärnu Kontserdimaja kammersaal\, Aida4\, Pärnu\, Estonia
END:VEVENT
BEGIN:VEVENT
DTSTART;TZID=Europe/Tallinn:20240216T170000
DTEND;TZID=Europe/Tallinn:20240216T180000
DTSTAMP:20260420T045436
CREATED:20240206T130748Z
LAST-MODIFIED:20240206T130749Z
UID:7300-1708102800-1708106400@muusikakool.ee
SUMMARY:Pereansamblite kontsert kammersaalis
DESCRIPTION:
URL:https://muusikakool.ee/sundmus/pereansamblite-kontsert-kammersaalis/
LOCATION:Pärnu Kontserdimaja kammersaal\, Aida4\, Pärnu\, Estonia
END:VEVENT
BEGIN:VEVENT
DTSTART;TZID=Europe/Tallinn:20240209T170000
DTEND;TZID=Europe/Tallinn:20240209T183000
DTSTAMP:20260420T045436
CREATED:20231108T141147Z
LAST-MODIFIED:20240201T113728Z
UID:7140-1707498000-1707503400@muusikakool.ee
SUMMARY:Sõbrapäevakontsert Pärnu Raekojas
DESCRIPTION:
URL:https://muusikakool.ee/sundmus/viljandi-ja-parnu-muusikakooli-sobrapaevakontsert-parnu-raekojas/
LOCATION:Pärnu Raekoda\, Nikolai 3\, Pärnu\, Estonia
END:VEVENT
BEGIN:VEVENT
DTSTART;TZID=Europe/Tallinn:20240105T180000
DTEND;TZID=Europe/Tallinn:20240105T190000
DTSTAMP:20260420T045436
CREATED:20231227T111403Z
LAST-MODIFIED:20231227T111403Z
UID:7234-1704477600-1704481200@muusikakool.ee
SUMMARY:Pärnu Muusikakooli ja Kunstide Kooli õpilaste kontsert Austria nädalal Cafe Grandis
DESCRIPTION:
URL:https://muusikakool.ee/sundmus/parnu-muusikakooli-ja-kunstide-kooli-opilaste-kontsert-austria-nadalal-cafe-grandis/
LOCATION:Cafe Grand\, Kuninga 25\, Pärnu\, 80014\, Estonia
END:VEVENT
BEGIN:VEVENT
DTSTART;TZID=Europe/Tallinn:20231221T000000
DTEND;TZID=Europe/Tallinn:20240107T235959
DTSTAMP:20260420T045436
CREATED:20230928T105605Z
LAST-MODIFIED:20230928T105605Z
UID:6991-1703116800-1704671999@muusikakool.ee
SUMMARY:Koolivaheaeg
DESCRIPTION:
URL:https://muusikakool.ee/sundmus/koolivaheaeg-5/
END:VEVENT
BEGIN:VEVENT
DTSTART;TZID=Europe/Tallinn:20231219T180000
DTEND;TZID=Europe/Tallinn:20231219T190000
DTSTAMP:20260420T045436
CREATED:20231102T151115Z
LAST-MODIFIED:20231202T135712Z
UID:7095-1703008800-1703012400@muusikakool.ee
SUMMARY:Vaskpilliõpilaste kontsert Pärnu Raekojas
DESCRIPTION:
URL:https://muusikakool.ee/sundmus/vaskpilliopilaste-kontsert-parnu-raekojas/
LOCATION:Pärnu Raekoda
END:VEVENT
BEGIN:VEVENT
DTSTART;TZID=Europe/Tallinn:20231218T180000
DTEND;TZID=Europe/Tallinn:20231218T190000
DTSTAMP:20260420T045436
CREATED:20230929T095447Z
LAST-MODIFIED:20231202T135625Z
UID:7005-1702922400-1702926000@muusikakool.ee
SUMMARY:Renata Marksalu klaveriõpilaste jõulukontsert Pärnu Raekojas
DESCRIPTION:
URL:https://muusikakool.ee/sundmus/renata-marksalu-klaveriopilaste-joulukontsert-2/
LOCATION:Pärnu Raekoda\, Nikolai 3\, Pärnu\, Estonia
END:VEVENT
BEGIN:VEVENT
DTSTART;TZID=Europe/Tallinn:20231216T130000
DTEND;TZID=Europe/Tallinn:20231216T140000
DTSTAMP:20260420T045436
CREATED:20230922T104830Z
LAST-MODIFIED:20231202T135441Z
UID:6896-1702731600-1702735200@muusikakool.ee
SUMMARY:Marika Kapi klaveriklassi jõulukontsert sessiooniruumis
DESCRIPTION:
URL:https://muusikakool.ee/sundmus/marika-kappi-klaveriklassi-joulukontsert/
LOCATION:Pärnu Kontserdimaja sessiooniruum\, Aida 4\, Pärnu\, 80010\, Estonia
END:VEVENT
BEGIN:VEVENT
DTSTART;TZID=Europe/Tallinn:20231216T120000
DTEND;TZID=Europe/Tallinn:20231216T130000
DTSTAMP:20260420T045436
CREATED:20231129T152349Z
LAST-MODIFIED:20231129T152349Z
UID:7192-1702728000-1702731600@muusikakool.ee
SUMMARY:Rütmimuusikaosakonna solistid ja bändid
DESCRIPTION:
URL:https://muusikakool.ee/sundmus/rutmimuusikaosakonna-solistid-ja-bandid/
LOCATION:Pärnu Kaubamajakas\, Papiniidu 8\, Pärnu\, Estonia
END:VEVENT
BEGIN:VEVENT
DTSTART;TZID=Europe/Tallinn:20231216T120000
DTEND;TZID=Europe/Tallinn:20231216T130000
DTSTAMP:20260420T045436
CREATED:20231110T132122Z
LAST-MODIFIED:20231211T143816Z
UID:7150-1702728000-1702731600@muusikakool.ee
SUMMARY:Emily Nora Elizabeth Urla saksofoniõpilaste jõulukontsert Pärnu Raekojas
DESCRIPTION:
URL:https://muusikakool.ee/sundmus/emily-nora-elizabeth-urla-saksofoniopilaste-joulukontsert-parnu-raekojas/
LOCATION:Pärnu Raekoda\, Nikolai 3\, Pärnu\, Estonia
END:VEVENT
BEGIN:VEVENT
DTSTART;TZID=Europe/Tallinn:20231215T173000
DTEND;TZID=Europe/Tallinn:20231215T183000
DTSTAMP:20260420T045436
CREATED:20231102T145117Z
LAST-MODIFIED:20231202T135126Z
UID:7072-1702661400-1702665000@muusikakool.ee
SUMMARY:Kitarriosakonna jõulukontsert Pärnu Raekojas
DESCRIPTION:
URL:https://muusikakool.ee/sundmus/kitarriosakonna-joulukontsert-2/
END:VEVENT
BEGIN:VEVENT
DTSTART;TZID=Europe/Tallinn:20231214T180000
DTEND;TZID=Europe/Tallinn:20231214T190000
DTSTAMP:20260420T045436
CREATED:20231020T101535Z
LAST-MODIFIED:20231201T170619Z
UID:7037-1702576800-1702580400@muusikakool.ee
SUMMARY:Rütmimuusikaosakonna bändide kontsert kohvikus Kastrul
DESCRIPTION:
URL:https://muusikakool.ee/sundmus/rutmimuusikaosakonna-bandide-kontsert-kohvikus-kastrul/
LOCATION:Kohvik Kastrul\, Lai 10\, Pärnu\, Estonia
END:VEVENT
BEGIN:VEVENT
DTSTART;TZID=Europe/Tallinn:20231214T160000
DTEND;TZID=Europe/Tallinn:20231214T180000
DTSTAMP:20260420T045436
CREATED:20231207T135939Z
LAST-MODIFIED:20231207T135939Z
UID:7221-1702569600-1702576800@muusikakool.ee
SUMMARY:Eesti Muusikakoolide Liidu Lääne-Pärnu regiooni juubelikontsert
DESCRIPTION:
URL:https://muusikakool.ee/sundmus/eesti-muusikakoolide-liidu-laane-parnu-regiooni-juubelikontsert/
LOCATION:Lihula Muusika- ja Kunstikool
END:VEVENT
END:VCALENDAR