BEGIN:VCALENDAR
VERSION:2.0
PRODID:-//Pärnu Muusikaool - ECPv6.15.17//NONSGML v1.0//EN
CALSCALE:GREGORIAN
METHOD:PUBLISH
X-ORIGINAL-URL:https://muusikakool.ee
X-WR-CALDESC:Events for Pärnu Muusikaool
REFRESH-INTERVAL;VALUE=DURATION:PT1H
X-Robots-Tag:noindex
X-PUBLISHED-TTL:PT1H
BEGIN:VTIMEZONE
TZID:Europe/Tallinn
BEGIN:DAYLIGHT
TZOFFSETFROM:+0200
TZOFFSETTO:+0300
TZNAME:EEST
DTSTART:20230326T010000
END:DAYLIGHT
BEGIN:STANDARD
TZOFFSETFROM:+0300
TZOFFSETTO:+0200
TZNAME:EET
DTSTART:20231029T010000
END:STANDARD
BEGIN:DAYLIGHT
TZOFFSETFROM:+0200
TZOFFSETTO:+0300
TZNAME:EEST
DTSTART:20240331T010000
END:DAYLIGHT
BEGIN:STANDARD
TZOFFSETFROM:+0300
TZOFFSETTO:+0200
TZNAME:EET
DTSTART:20241027T010000
END:STANDARD
BEGIN:DAYLIGHT
TZOFFSETFROM:+0200
TZOFFSETTO:+0300
TZNAME:EEST
DTSTART:20250330T010000
END:DAYLIGHT
BEGIN:STANDARD
TZOFFSETFROM:+0300
TZOFFSETTO:+0200
TZNAME:EET
DTSTART:20251026T010000
END:STANDARD
END:VTIMEZONE
BEGIN:VEVENT
DTSTART;TZID=Europe/Tallinn:20241207T120000
DTEND;TZID=Europe/Tallinn:20241207T130000
DTSTAMP:20260420T015939
CREATED:20241009T125756Z
LAST-MODIFIED:20241009T125758Z
UID:8020-1733572800-1733576400@muusikakool.ee
SUMMARY:Elo Kalda kandleõpilaste jõulukontsert sessiooniruumis
DESCRIPTION:
URL:https://muusikakool.ee/sundmus/elo-kalda-kandleopilaste-joulukontsert-sessiooniruumis/
LOCATION:Pärnu Kontserdimaja sessiooniruum\, Aida 4\, Pärnu\, 80010\, Estonia
END:VEVENT
BEGIN:VEVENT
DTSTART;TZID=Europe/Tallinn:20241205T173000
DTEND;TZID=Europe/Tallinn:20241205T183000
DTSTAMP:20260420T015939
CREATED:20241017T110241Z
LAST-MODIFIED:20241122T120618Z
UID:8110-1733419800-1733423400@muusikakool.ee
SUMMARY:Anne Rajaste ja Eve Endoja klaveriõpilaste jõuluootuse kontsert väikeses saalis
DESCRIPTION:
URL:https://muusikakool.ee/sundmus/anne-rajaste-ja-eve-endoja-opilaste-jouluootuse-kontsert-vaikeses-saalis/
LOCATION:Pärnu Muusikakooli väike saal\, Aida 4\, Pärnu\, Pärnu\, 80010\, Estonia
END:VEVENT
BEGIN:VEVENT
DTSTART;TZID=Europe/Tallinn:20241204T180000
DTEND;TZID=Europe/Tallinn:20241204T190000
DTSTAMP:20260420T015939
CREATED:20241031T122219Z
LAST-MODIFIED:20241031T122306Z
UID:8178-1733335200-1733338800@muusikakool.ee
SUMMARY:Rütmimuusikaosakonna bändide kontsert Garaažis (Kastrulis)
DESCRIPTION:
URL:https://muusikakool.ee/sundmus/marge-lumisalu/
LOCATION:Kohvik Kastrul\, Lai 10\, Pärnu\, Estonia
END:VEVENT
BEGIN:VEVENT
DTSTART;TZID=Europe/Tallinn:20241203T180000
DTEND;TZID=Europe/Tallinn:20241203T190000
DTSTAMP:20260420T015939
CREATED:20241009T125108Z
LAST-MODIFIED:20241009T131012Z
UID:8015-1733248800-1733252400@muusikakool.ee
SUMMARY:Aaro Tetsmanni oreliõpilaste jõulukontsert Pärnu Kontserdimaja suures saalis
DESCRIPTION:
URL:https://muusikakool.ee/sundmus/aaro-tetsmanni-opilaste-joulukontsert-parnu-kontserdimaja-suures-saalis/
LOCATION:Pärnu Kontserdimaja suur saal\, Aida 4\, Pärnu\, Estonia
END:VEVENT
BEGIN:VEVENT
DTSTART;TZID=Europe/Tallinn:20241118T160000
DTEND;TZID=Europe/Tallinn:20241118T170000
DTSTAMP:20260420T015939
CREATED:20241009T124808Z
LAST-MODIFIED:20241112T103711Z
UID:8011-1731945600-1731949200@muusikakool.ee
SUMMARY:Rütmimuusikaosakonna solistide kontsert kohvikus Cello
DESCRIPTION:
URL:https://muusikakool.ee/sundmus/rutmimuusikaosakonna-solistide-kontsert-kohvikus-cello-4/
LOCATION:Pärnu Kontserdimaja kohvik Cello\, Aida 4\, Pärnu\, Estonia
END:VEVENT
BEGIN:VEVENT
DTSTART;TZID=Europe/Tallinn:20241112T150000
DTEND;TZID=Europe/Tallinn:20241112T180000
DTSTAMP:20260420T015939
CREATED:20241009T124958Z
LAST-MODIFIED:20241028T153608Z
UID:8013-1731423600-1731434400@muusikakool.ee
SUMMARY:Klaveriosakonna nobenäpupäev kammersaalis
DESCRIPTION:
URL:https://muusikakool.ee/sundmus/klaveriosakonna-nobenapupaev-vaikses-saalis/
LOCATION:Pärnu Kontserdimaja kammersaal\, Aida4\, Pärnu\, Estonia
END:VEVENT
BEGIN:VEVENT
DTSTART;TZID=Europe/Tallinn:20241109T190000
DTEND;TZID=Europe/Tallinn:20241109T203000
DTSTAMP:20260420T015939
CREATED:20241009T125620Z
LAST-MODIFIED:20241009T125622Z
UID:8017-1731178800-1731184200@muusikakool.ee
SUMMARY:Rob Luht & Rahel Talts Quartet
DESCRIPTION:
URL:https://muusikakool.ee/sundmus/rob-luht-rahel-talts-quartet/
LOCATION:Pärnu Kontserdimaja kammersaal\, Aida4\, Pärnu\, Estonia
END:VEVENT
BEGIN:VEVENT
DTSTART;TZID=Europe/Tallinn:20241109T130000
DTEND;TZID=Europe/Tallinn:20241109T150000
DTSTAMP:20260420T015939
CREATED:20241022T103339Z
LAST-MODIFIED:20241022T103738Z
UID:8147-1731157200-1731164400@muusikakool.ee
SUMMARY:Rob Luft & Rahel Talts Quartet töötoad
DESCRIPTION:
URL:https://muusikakool.ee/sundmus/rob-luftrahel-talts-quartet-tootoad/
LOCATION:Pärnu Muusikakool\, Aida 4\, Pärnu\, Pärnumaa\, 80010\, Estonia
END:VEVENT
BEGIN:VEVENT
DTSTART;TZID=Europe/Tallinn:20241107T180000
DTEND;TZID=Europe/Tallinn:20241107T190000
DTSTAMP:20260420T015939
CREATED:20241017T112212Z
LAST-MODIFIED:20241028T153431Z
UID:8112-1731002400-1731006000@muusikakool.ee
SUMMARY:Rütmimuusikaosakonna bändide kontsert Wunderbaaris
DESCRIPTION:
URL:https://muusikakool.ee/sundmus/rutmimuusikaosakonna-bandide-kontsert-wunderbaaris-2/
LOCATION:Wunderbaar\, Lai 10/1\, Pärnu\, Estonia
END:VEVENT
BEGIN:VEVENT
DTSTART;TZID=Europe/Tallinn:20241030T160000
DTEND;TZID=Europe/Tallinn:20241030T170000
DTSTAMP:20260420T015939
CREATED:20240930T130630Z
LAST-MODIFIED:20241016T133531Z
UID:7983-1730304000-1730307600@muusikakool.ee
SUMMARY:Kontsert MINU ESIMENE ESINEMINE
DESCRIPTION:
URL:https://muusikakool.ee/sundmus/kontsert-minu-esimene-esinemine-3/
LOCATION:Pärnu Kontserdimaja kammersaal\, Aida4\, Pärnu\, Estonia
END:VEVENT
BEGIN:VEVENT
DTSTART;TZID=Europe/Tallinn:20241020T130000
DTEND;TZID=Europe/Tallinn:20241020T150000
DTSTAMP:20260420T015939
CREATED:20241001T121647Z
LAST-MODIFIED:20241001T121649Z
UID:7994-1729429200-1729436400@muusikakool.ee
SUMMARY:Pärnu Kitarripäevade lõppkontsert
DESCRIPTION:
URL:https://muusikakool.ee/sundmus/parnu-kitarripaevade-loppkontsert/
LOCATION:Pärnu Kontserdimaja kammersaal\, Aida4\, Pärnu\, Estonia
END:VEVENT
BEGIN:VEVENT
DTSTART;TZID=Europe/Tallinn:20241019T180000
DTEND;TZID=Europe/Tallinn:20241019T190000
DTSTAMP:20260420T015939
CREATED:20241001T121347Z
LAST-MODIFIED:20241001T121349Z
UID:7992-1729360800-1729364400@muusikakool.ee
SUMMARY:Karl Petti Trio - Pärnu Kitarripäevad
DESCRIPTION:
URL:https://muusikakool.ee/sundmus/karl-petti-trio-parnu-kitarripaevad/
LOCATION:Wunderbaar\, Lai 10/1\, Pärnu\, Estonia
END:VEVENT
BEGIN:VEVENT
DTSTART;TZID=Europe/Tallinn:20241019T000000
DTEND;TZID=Europe/Tallinn:20241020T235959
DTSTAMP:20260420T015939
CREATED:20241001T120606Z
LAST-MODIFIED:20241001T121754Z
UID:7985-1729296000-1729468799@muusikakool.ee
SUMMARY:Pärnu Kitarripäevad 2024
DESCRIPTION:
URL:https://muusikakool.ee/sundmus/parnu-kitarripaevad-2024/
LOCATION:Pärnu Muusikakool\, Aida 4\, Pärnu\, Pärnumaa\, 80010\, Estonia
END:VEVENT
BEGIN:VEVENT
DTSTART;TZID=Europe/Tallinn:20241014T160000
DTEND;TZID=Europe/Tallinn:20241014T170000
DTSTAMP:20260420T015939
CREATED:20240930T124352Z
LAST-MODIFIED:20240930T124355Z
UID:7975-1728921600-1728925200@muusikakool.ee
SUMMARY:Pärnu Muusikakooli rütmimuusikaosakonna solistide kontsert
DESCRIPTION:
URL:https://muusikakool.ee/sundmus/parnu-muusikakooli-rutmimuusikaosakonna-solistide-kontsert-2/
LOCATION:Pärnu Kontserdimaja kohvik Cello\, Aida 4\, Pärnu\, Estonia
END:VEVENT
BEGIN:VEVENT
DTSTART;TZID=Europe/Tallinn:20240902T170000
DTEND;TZID=Europe/Tallinn:20240902T180000
DTSTAMP:20260420T015939
CREATED:20240816T082116Z
LAST-MODIFIED:20240828T070213Z
UID:7748-1725296400-1725300000@muusikakool.ee
SUMMARY:Pärnu Muusikakooli avaaktus
DESCRIPTION:
URL:https://muusikakool.ee/sundmus/parnu-muusikakooli-ava-aktus/
LOCATION:Pärnu Kontserdimaja suur saal\, Aida 4\, Pärnu\, Estonia
END:VEVENT
BEGIN:VEVENT
DTSTART;TZID=Europe/Tallinn:20240621T213000
DTEND;TZID=Europe/Tallinn:20240621T223000
DTSTAMP:20260420T015939
CREATED:20240619T103304Z
LAST-MODIFIED:20240619T104001Z
UID:7682-1719005400-1719009000@muusikakool.ee
SUMMARY:Noored talendid Pärnu Muusikakoolist Pärnu Jazzklubis
DESCRIPTION:Pärnu Jazzklubi
URL:https://muusikakool.ee/sundmus/noored-talendid-parnu-muusikakoolist-parnu-jazzklubis/
LOCATION:Pärnu Jazzklubi\, Keskväljak 1\, Pärnu\, 80010\, Estonia
END:VEVENT
BEGIN:VEVENT
DTSTART;TZID=Europe/Tallinn:20240613T190000
DTEND;TZID=Europe/Tallinn:20240613T210000
DTSTAMP:20260420T015939
CREATED:20240603T182505Z
LAST-MODIFIED:20240603T182506Z
UID:7668-1718305200-1718312400@muusikakool.ee
SUMMARY:Pärnu Muusikakooli rütmimuusikaosakonna lõpetajate ansambli kontsert
DESCRIPTION:
URL:https://muusikakool.ee/sundmus/parnu-muusikakooli-rutmimuusikaosakonna-lopetajate-ansambli-kontsert/
LOCATION:Wunderbaar\, Lai 10/1\, Pärnu\, Estonia
END:VEVENT
BEGIN:VEVENT
DTSTART;TZID=Europe/Tallinn:20240611T170000
DTEND;TZID=Europe/Tallinn:20240611T180000
DTSTAMP:20260420T015939
CREATED:20240408T144436Z
LAST-MODIFIED:20240528T132904Z
UID:7390-1718125200-1718128800@muusikakool.ee
SUMMARY:Aktus: Noorema astme lõpuaktus ja noorema ning vanema astme kiituskirjad kammersaalis
DESCRIPTION:
URL:https://muusikakool.ee/sundmus/noorema-astme-aktus-kammersaalis/
LOCATION:Pärnu Kontserdimaja kammersaal\, Aida4\, Pärnu\, Estonia
END:VEVENT
BEGIN:VEVENT
DTSTART;TZID=Europe/Tallinn:20240611T150000
DTEND;TZID=Europe/Tallinn:20240611T160000
DTSTAMP:20260420T015939
CREATED:20240408T144324Z
LAST-MODIFIED:20240528T132717Z
UID:7387-1718118000-1718121600@muusikakool.ee
SUMMARY:Aktus: algastme kiituskirjad kammersaalis
DESCRIPTION:
URL:https://muusikakool.ee/sundmus/algastme-lopuaktus-kammersaalis/
LOCATION:Pärnu Kontserdimaja kammersaal\, Aida4\, Pärnu\, Estonia
END:VEVENT
BEGIN:VEVENT
DTSTART;TZID=Europe/Tallinn:20240609T150000
DTEND;TZID=Europe/Tallinn:20240609T160000
DTSTAMP:20260420T015939
CREATED:20240605T125246Z
LAST-MODIFIED:20240605T125246Z
UID:7674-1717945200-1717948800@muusikakool.ee
SUMMARY:Omaloomingupäev Viljandi Muusikakoolis
DESCRIPTION:
URL:https://muusikakool.ee/sundmus/omaloomingupaev-viljandi-muusikakoolis/
LOCATION:Viljandi Muusikakool\, Jakobsoni 16\, 71005\, Estonia
END:VEVENT
BEGIN:VEVENT
DTSTART;TZID=Europe/Tallinn:20240607T200000
DTEND;TZID=Europe/Tallinn:20240607T210000
DTSTAMP:20260420T015939
CREATED:20240603T143841Z
LAST-MODIFIED:20240603T144029Z
UID:7662-1717790400-1717794000@muusikakool.ee
SUMMARY:Pärnu rahvusvaheline orelifestival
DESCRIPTION:Esinevad Pärnu ja Keila Muusikakooli ja MUBA oreliõpilased
URL:https://muusikakool.ee/sundmus/parnur-rahvusvaheline-orelifestival/
LOCATION:Pärnu Eliisabeti kirik
END:VEVENT
BEGIN:VEVENT
DTSTART;TZID=Europe/Tallinn:20240606T180000
DTEND;TZID=Europe/Tallinn:20240606T190000
DTSTAMP:20260420T015939
CREATED:20240507T112611Z
LAST-MODIFIED:20240603T184329Z
UID:7503-1717696800-1717700400@muusikakool.ee
SUMMARY:Aita Kaaveri lauluõpilaste kontsert Pärnu Kunstide Koolis
DESCRIPTION:
URL:https://muusikakool.ee/sundmus/aita-kaaveri-lauluopilaste-kontsert-parnu-kunstide-koolis/
LOCATION:Pärnu Kunstide Kool\, Pühavaimu 8\, Pärnu\, 80010\, Estonia
END:VEVENT
BEGIN:VEVENT
DTSTART;TZID=Europe/Tallinn:20240605T000000
DTEND;TZID=Europe/Tallinn:20240605T235959
DTSTAMP:20260420T015939
CREATED:20240408T144115Z
LAST-MODIFIED:20240408T144148Z
UID:7384-1717545600-1717631999@muusikakool.ee
SUMMARY:Pärnu Muusikakooli UUTE ÕPILASTE VASTUVÕTT
DESCRIPTION:
URL:https://muusikakool.ee/sundmus/parnu-muusikakooli-vastuvott/
END:VEVENT
BEGIN:VEVENT
DTSTART;TZID=Europe/Tallinn:20240603T000000
DTEND;TZID=Europe/Tallinn:20240604T235959
DTSTAMP:20260420T015939
CREATED:20231227T112506Z
LAST-MODIFIED:20240408T143959Z
UID:7249-1717372800-1717545599@muusikakool.ee
SUMMARY:3.-4. juunil 2024 Pärnu Muusikakooli UUTE ÕPILASTE VASTUVÕTU konsultatsioonid
DESCRIPTION:
URL:https://muusikakool.ee/sundmus/parnu-muusikakooli-uute-opilaste-vastuvott/
LOCATION:Pärnu Muusikakool\, Aida 4\, Pärnu\, Pärnumaa\, 80010\, Estonia
END:VEVENT
BEGIN:VEVENT
DTSTART;TZID=Europe/Tallinn:20240602T120000
DTEND;TZID=Europe/Tallinn:20240602T140000
DTSTAMP:20260420T015939
CREATED:20230905T114809Z
LAST-MODIFIED:20240528T133446Z
UID:6855-1717329600-1717336800@muusikakool.ee
SUMMARY:Pärnu Muusikakooli kontsert-lõpuaktus Pärnu Kontserdimajas
DESCRIPTION:
URL:https://muusikakool.ee/sundmus/parnu-muusikakooli-lopuaktus/
LOCATION:Pärnu Kontserdimaja suur saal\, Aida 4\, Pärnu\, Estonia
END:VEVENT
BEGIN:VEVENT
DTSTART;TZID=Europe/Tallinn:20240601T130000
DTEND;TZID=Europe/Tallinn:20240601T140000
DTSTAMP:20260420T015939
CREATED:20240523T150731Z
LAST-MODIFIED:20240523T150731Z
UID:7638-1717246800-1717250400@muusikakool.ee
SUMMARY:Marju Mäe Pärnu Muusikakooli ja Kunstide Kooli flöödiõpilaste kontsert
DESCRIPTION:
URL:https://muusikakool.ee/sundmus/marju-mae-parnu-muusikakooli-ja-kunstide-kooli-floodiopilaste-kontsert/
LOCATION:Pärnu Kunstide Kool\, Pühavaimu 8\, Pärnu\, 80010\, Estonia
END:VEVENT
BEGIN:VEVENT
DTSTART;TZID=Europe/Tallinn:20240530T160000
DTEND;TZID=Europe/Tallinn:20240530T190000
DTSTAMP:20260420T015939
CREATED:20231227T112231Z
LAST-MODIFIED:20240517T095028Z
UID:7247-1717084800-1717095600@muusikakool.ee
SUMMARY:Pärnu Muusikakooli AVATUD USTE PÄEVAD
DESCRIPTION:
URL:https://muusikakool.ee/sundmus/parnu-muusikakooli-avatud-uste-paevad-2/
LOCATION:Pärnu Muusikakool\, Aida 4\, Pärnu\, Pärnumaa\, 80010\, Estonia
END:VEVENT
BEGIN:VEVENT
DTSTART;TZID=Europe/Tallinn:20240529T160000
DTEND;TZID=Europe/Tallinn:20240529T190000
DTSTAMP:20260420T015939
CREATED:20231227T112135Z
LAST-MODIFIED:20240517T094908Z
UID:7245-1716998400-1717009200@muusikakool.ee
SUMMARY:Pärnu Muusikakooli AVATUD USTE PÄEVAD
DESCRIPTION:
URL:https://muusikakool.ee/sundmus/parnu-muusikakooli-avatud-uste-paevad/
LOCATION:Pärnu Muusikakool\, Aida 4\, Pärnu\, Pärnumaa\, 80010\, Estonia
END:VEVENT
BEGIN:VEVENT
DTSTART;TZID=Europe/Tallinn:20240528T180000
DTEND;TZID=Europe/Tallinn:20240528T193000
DTSTAMP:20260420T015939
CREATED:20231227T111931Z
LAST-MODIFIED:20240502T135437Z
UID:7241-1716919200-1716924600@muusikakool.ee
SUMMARY:Pärnu Muusikakooli lõpetajate kontsert Pärnu Raekojas
DESCRIPTION:
URL:https://muusikakool.ee/sundmus/parnu-muusikakooli-lopetajate-kontsert-parnu-raekojas/
LOCATION:Pärnu Raekoda\, Nikolai 3\, Pärnu\, Estonia
END:VEVENT
BEGIN:VEVENT
DTSTART;TZID=Europe/Tallinn:20240525T120000
DTEND;TZID=Europe/Tallinn:20240525T130000
DTSTAMP:20260420T015939
CREATED:20240408T143703Z
LAST-MODIFIED:20240523T150935Z
UID:7380-1716638400-1716642000@muusikakool.ee
SUMMARY:Elo Kalda kandleõpilaste kontsert kammersaalis
DESCRIPTION:
URL:https://muusikakool.ee/sundmus/elo-kalda-kandleopilaste-kontsert-kammersaalis/
LOCATION:Pärnu Raekoda
END:VEVENT
END:VCALENDAR