BEGIN:VCALENDAR
VERSION:2.0
PRODID:-//Pärnu Muusikaool - ECPv6.15.17//NONSGML v1.0//EN
CALSCALE:GREGORIAN
METHOD:PUBLISH
X-ORIGINAL-URL:https://muusikakool.ee
X-WR-CALDESC:Events for Pärnu Muusikaool
REFRESH-INTERVAL;VALUE=DURATION:PT1H
X-Robots-Tag:noindex
X-PUBLISHED-TTL:PT1H
BEGIN:VTIMEZONE
TZID:Europe/Tallinn
BEGIN:DAYLIGHT
TZOFFSETFROM:+0200
TZOFFSETTO:+0300
TZNAME:EEST
DTSTART:20230326T010000
END:DAYLIGHT
BEGIN:STANDARD
TZOFFSETFROM:+0300
TZOFFSETTO:+0200
TZNAME:EET
DTSTART:20231029T010000
END:STANDARD
BEGIN:DAYLIGHT
TZOFFSETFROM:+0200
TZOFFSETTO:+0300
TZNAME:EEST
DTSTART:20240331T010000
END:DAYLIGHT
BEGIN:STANDARD
TZOFFSETFROM:+0300
TZOFFSETTO:+0200
TZNAME:EET
DTSTART:20241027T010000
END:STANDARD
BEGIN:DAYLIGHT
TZOFFSETFROM:+0200
TZOFFSETTO:+0300
TZNAME:EEST
DTSTART:20250330T010000
END:DAYLIGHT
BEGIN:STANDARD
TZOFFSETFROM:+0300
TZOFFSETTO:+0200
TZNAME:EET
DTSTART:20251026T010000
END:STANDARD
BEGIN:DAYLIGHT
TZOFFSETFROM:+0200
TZOFFSETTO:+0300
TZNAME:EEST
DTSTART:20260329T010000
END:DAYLIGHT
BEGIN:STANDARD
TZOFFSETFROM:+0300
TZOFFSETTO:+0200
TZNAME:EET
DTSTART:20261025T010000
END:STANDARD
END:VTIMEZONE
BEGIN:VEVENT
DTSTART;TZID=Europe/Tallinn:20250507T180000
DTEND;TZID=Europe/Tallinn:20250507T190000
DTSTAMP:20260419T224838
CREATED:20250408T105432Z
LAST-MODIFIED:20250502T144950Z
UID:8483-1746640800-1746644400@muusikakool.ee
SUMMARY:Rütmimuusikaosakonna eksam-kontsert
DESCRIPTION:
URL:https://muusikakool.ee/sundmus/rutmimuusikaosakonna-eksam-kontsert/
LOCATION:Pärnu Sütevaka Humanitaargümnaasium\, Lõuna 20\, Pärnu\, Pärnumaa\, 80010\, Estonia
END:VEVENT
BEGIN:VEVENT
DTSTART;TZID=Europe/Tallinn:20250505T170000
DTEND;TZID=Europe/Tallinn:20250505T180000
DTSTAMP:20260419T224838
CREATED:20250408T105308Z
LAST-MODIFIED:20250408T105330Z
UID:8479-1746464400-1746468000@muusikakool.ee
SUMMARY:Pärnu Muusikakooli sümfooniaorkestri kontsert kammersaalis
DESCRIPTION:
URL:https://muusikakool.ee/sundmus/parnu-muusikakooli-sumfooniaorkestri-kontsert-kammersaalis/
LOCATION:Pärnu Kontserdimaja kammersaal\, Aida4\, Pärnu\, Estonia
END:VEVENT
BEGIN:VEVENT
DTSTART;TZID=Europe/Tallinn:20250503T120000
DTEND;TZID=Europe/Tallinn:20250503T130000
DTSTAMP:20260419T224838
CREATED:20250325T132420Z
LAST-MODIFIED:20250408T105207Z
UID:8432-1746273600-1746277200@muusikakool.ee
SUMMARY:Heli Sommeri tšelloõpilaste kevadkontsert (1) Pärnu Raekojas
DESCRIPTION:
URL:https://muusikakool.ee/sundmus/heli-sommeri-opilaste-kevadkontsert-1/
LOCATION:Pärnu Raekoda\, Nikolai 3\, Pärnu\, Estonia
END:VEVENT
BEGIN:VEVENT
DTSTART;TZID=Europe/Tallinn:20250502T180000
DTEND;TZID=Europe/Tallinn:20250502T190000
DTSTAMP:20260419T224838
CREATED:20250325T132047Z
LAST-MODIFIED:20250408T105114Z
UID:8430-1746208800-1746212400@muusikakool.ee
SUMMARY:Kristiina Birki viiuliõpilaste kevadkontsert 
DESCRIPTION:Esinevad Kristiina Birki Pärnu Muusikakooli ja Audru Muusikaosakonna viiuliõpilased
URL:https://muusikakool.ee/sundmus/kristiina-birki-opilaste-kevadkontsert/
LOCATION:Pärnu Raekoda\, Nikolai 3\, Pärnu\, Estonia
END:VEVENT
BEGIN:VEVENT
DTSTART;TZID=Europe/Tallinn:20250426T170000
DTEND;TZID=Europe/Tallinn:20250426T180000
DTSTAMP:20260419T224838
CREATED:20250325T131724Z
LAST-MODIFIED:20250408T104832Z
UID:8428-1745686800-1745690400@muusikakool.ee
SUMMARY:VILISTLASKONTSERT KUNSTISAALIS
DESCRIPTION:PMK vilistlased Leonora Palu\, Anne Rajaste ja Jaana Kivisild koos oma endiste ja praeguste õpilastega
URL:https://muusikakool.ee/sundmus/vilistlaskontsert-kunstisaalis/
LOCATION:Pärnu Uue Kunsti Muuseum\, Rüütli 40a\, Pärnu\, 80025\, Estonia
END:VEVENT
BEGIN:VEVENT
DTSTART;TZID=Europe/Tallinn:20250423T180000
DTEND;TZID=Europe/Tallinn:20250423T190000
DTSTAMP:20260419T224838
CREATED:20250408T104725Z
LAST-MODIFIED:20250421T105649Z
UID:8470-1745431200-1745434800@muusikakool.ee
SUMMARY:JAZZKAARE LINNARUUMIPROJEKTI KONTSERT Rütmimuusikaosakonna bändide kontsert Wunderbaaris
DESCRIPTION:
URL:https://muusikakool.ee/sundmus/rutmimuusikaosakonna-bandide-kontsert-wunderbaaris-3/
LOCATION:Wunderbaar\, Lai 10/1\, Pärnu\, Estonia
END:VEVENT
BEGIN:VEVENT
DTSTART;TZID=Europe/Tallinn:20250423T173000
DTEND;TZID=Europe/Tallinn:20250423T183000
DTSTAMP:20260419T224838
CREATED:20250408T103455Z
LAST-MODIFIED:20250408T103551Z
UID:8465-1745429400-1745433000@muusikakool.ee
SUMMARY:Pärnu Muusikakooli ja Kunstide Kooli kitarriõpilaste kevadkontsert Kunstide Koolis
DESCRIPTION:
URL:https://muusikakool.ee/sundmus/parnu-muusikakooli-ja-kunstide-kooli-kitarriopilaste-kevadkontsert-kunstide-koolis/
LOCATION:Pärnu Kunstide Kool\, Pühavaimu 8\, Pärnu\, 80010\, Estonia
END:VEVENT
BEGIN:VEVENT
DTSTART;TZID=Europe/Tallinn:20250421T160000
DTEND;TZID=Europe/Tallinn:20250421T170000
DTSTAMP:20260419T224838
CREATED:20250325T131511Z
LAST-MODIFIED:20250325T131622Z
UID:8425-1745251200-1745254800@muusikakool.ee
SUMMARY:Rütmimuusikaosakonna solistide kontsert kohvikus Cello
DESCRIPTION:
URL:https://muusikakool.ee/sundmus/rutmimuusikaosakonna-solistide-kontsert-cello-kohvikus-4/
LOCATION:Pärnu Kontserdimaja kohvik Cello\, Aida 4\, Pärnu\, Estonia
END:VEVENT
BEGIN:VEVENT
DTSTART;TZID=Europe/Tallinn:20250404T170000
DTEND;TZID=Europe/Tallinn:20250404T180000
DTSTAMP:20260419T224838
CREATED:20250325T131217Z
LAST-MODIFIED:20250325T131420Z
UID:8419-1743786000-1743789600@muusikakool.ee
SUMMARY:Eesti-Läti noorte kandlemängijate kontsert Pärnu Raekojas
DESCRIPTION:
URL:https://muusikakool.ee/sundmus/valmiera-ja-parnu-muusikakoolide-uhine-kandlekontsert-raekoja-saalis/
LOCATION:Pärnu Raekoda\, Nikolai 3\, Pärnu\, Estonia
END:VEVENT
BEGIN:VEVENT
DTSTART;TZID=Europe/Tallinn:20250331T170000
DTEND;TZID=Europe/Tallinn:20250331T180000
DTSTAMP:20260419T224838
CREATED:20250325T130820Z
LAST-MODIFIED:20250325T130851Z
UID:8416-1743440400-1743444000@muusikakool.ee
SUMMARY:Indrek Oseleini klaveriõpilaste kontsert
DESCRIPTION:
URL:https://muusikakool.ee/sundmus/indrek-oseleini-klaveriopilaste-kontsert/
LOCATION:Pärnu Muusikakooli väike saal\, Aida 4\, Pärnu\, Pärnu\, 80010\, Estonia
END:VEVENT
BEGIN:VEVENT
DTSTART;TZID=Europe/Tallinn:20250322T000000
DTEND;TZID=Europe/Tallinn:20250322T235959
DTSTAMP:20260419T224838
CREATED:20250205T163234Z
LAST-MODIFIED:20250325T091808Z
UID:8326-1742601600-1742687999@muusikakool.ee
SUMMARY:Eesti Muusikakoolide Liidu vabariiklik oreliõpilaste konkurss "Parim noor instrumentalist 2025"
DESCRIPTION:
URL:https://muusikakool.ee/sundmus/eesti-muusikakoolide-liidu-vabariiklik-oreliopilaste-konkurss-parim-noor-instrumentalist-2025/
LOCATION:Pärnu Kontserdimaja suur saal\, Aida 4\, Pärnu\, Estonia
END:VEVENT
BEGIN:VEVENT
DTSTART;TZID=Europe/Tallinn:20250321T170000
DTEND;TZID=Europe/Tallinn:20250321T180000
DTSTAMP:20260419T224838
CREATED:20250205T163358Z
LAST-MODIFIED:20250205T163435Z
UID:8328-1742576400-1742580000@muusikakool.ee
SUMMARY:Anu Männi viiuliõpilaste kontsert Pärnu Raekojas
DESCRIPTION:
URL:https://muusikakool.ee/sundmus/anu-manni-viiuliopilaste-kontsert-parnu-raekojas/
LOCATION:Pärnu Raekoda\, Nikolai 3\, Pärnu\, 80010\, Estonia
END:VEVENT
BEGIN:VEVENT
DTSTART;TZID=Europe/Tallinn:20250320T000000
DTEND;TZID=Europe/Tallinn:20250320T235959
DTSTAMP:20260419T224838
CREATED:20250205T163123Z
LAST-MODIFIED:20250205T163127Z
UID:8324-1742428800-1742515199@muusikakool.ee
SUMMARY:Lääne-Pärnu regiooni klaveriõpilaste konkurss "Parim noor instrumentalist 2025"
DESCRIPTION:
URL:https://muusikakool.ee/sundmus/laane-parnu-regiooni-klaveriopilaste-konkurss-parim-noor-instrumentalist-2025/
LOCATION:Pärnu Kontserdimaja kammersaal\, Aida4\, Pärnu\, Estonia
END:VEVENT
BEGIN:VEVENT
DTSTART;TZID=Europe/Tallinn:20250317T000000
DTEND;TZID=Europe/Tallinn:20250317T235959
DTSTAMP:20260419T224838
CREATED:20250205T163028Z
LAST-MODIFIED:20250205T163032Z
UID:8322-1742169600-1742255999@muusikakool.ee
SUMMARY:Lääne-Pärnu regiooni flöödiõpilaste konkurss "Parim noor instrumentalist 2025"
DESCRIPTION:
URL:https://muusikakool.ee/sundmus/laane-parnu-regiooni-floodiopilaste-konkurss-parim-noor-instrumentalist-2025/
LOCATION:Pärnu Kontserdimaja kammersaal\, Aida4\, Pärnu\, Estonia
END:VEVENT
BEGIN:VEVENT
DTSTART;TZID=Europe/Tallinn:20250312T180000
DTEND;TZID=Europe/Tallinn:20250312T190000
DTSTAMP:20260419T224838
CREATED:20250205T162807Z
LAST-MODIFIED:20250205T162820Z
UID:8320-1741802400-1741806000@muusikakool.ee
SUMMARY:Pärnu Muusikakooli perekontsert kammersaalis
DESCRIPTION:
URL:https://muusikakool.ee/sundmus/parnu-muusikakooli-perekontsert-kammersaalis/
LOCATION:Pärnu Kontserdimaja kammersaal\, Aida4\, Pärnu\, Estonia
END:VEVENT
BEGIN:VEVENT
DTSTART;TZID=Europe/Tallinn:20250310T160000
DTEND;TZID=Europe/Tallinn:20250310T170000
DTSTAMP:20260419T224838
CREATED:20250205T162601Z
LAST-MODIFIED:20250205T162604Z
UID:8318-1741622400-1741626000@muusikakool.ee
SUMMARY:Rütmimuusikaosakonna solistide kontsert kohvikus Cello
DESCRIPTION:
URL:https://muusikakool.ee/sundmus/rutmimuusikaosakonna-solistide-kontsert-kohvikus-cello-6/
LOCATION:Pärnu Kontserdimaja kohvik Cello\, Aida 4\, Pärnu\, Estonia
END:VEVENT
BEGIN:VEVENT
DTSTART;TZID=Europe/Tallinn:20250221T170000
DTEND;TZID=Europe/Tallinn:20250221T180000
DTSTAMP:20260419T224838
CREATED:20250126T141754Z
LAST-MODIFIED:20250205T163813Z
UID:8286-1740157200-1740160800@muusikakool.ee
SUMMARY:Keelpilliosakonna juubelikontsert
DESCRIPTION:Esinevad keelpilliosakonna endised ja praegused õpilased.
URL:https://muusikakool.ee/sundmus/keelpilliosakonna-juubelikontsert/
LOCATION:Pärnu Raekoda\, Nikolai 3\, Pärnu\, 80025\, Estonia
END:VEVENT
BEGIN:VEVENT
DTSTART;TZID=Europe/Tallinn:20250219T180000
DTEND;TZID=Europe/Tallinn:20250219T190000
DTSTAMP:20260419T224838
CREATED:20250116T113202Z
LAST-MODIFIED:20250126T140928Z
UID:8260-1739988000-1739991600@muusikakool.ee
SUMMARY:RMO JUUBELIKONTSERT
DESCRIPTION:Esinevad rütmimuusikaosakonna endised ja praegused õpilased. \n\n\n\nSissepääs tasuta.
URL:https://muusikakool.ee/sundmus/rutmimuusikaosakonna-juubelikontsert/
LOCATION:Wunderbaar\, Lai 10/1\, Pärnu\, Estonia
END:VEVENT
BEGIN:VEVENT
DTSTART;TZID=Europe/Tallinn:20250207T153000
DTEND;TZID=Europe/Tallinn:20250207T170000
DTSTAMP:20260419T224838
CREATED:20250204T120629Z
LAST-MODIFIED:20250204T120633Z
UID:8313-1738942200-1738947600@muusikakool.ee
SUMMARY:Pärimusmuusika töötuba
DESCRIPTION:Regina Mänd – viiul \n\n\n\nAnton Andersson – löökpillid (Rootsi) \n\n\n\nAntti Lähdesmäki – klaver (Soome)
URL:https://muusikakool.ee/sundmus/parimusmuusika-tootuba/
LOCATION:Pärnu Muusikakool\, Aida 4\, Pärnu\, Pärnumaa\, 80010\, Estonia
END:VEVENT
BEGIN:VEVENT
DTSTART;TZID=Europe/Tallinn:20250201T160000
DTEND;TZID=Europe/Tallinn:20250201T200000
DTSTAMP:20260419T224838
CREATED:20241007T145617Z
LAST-MODIFIED:20250201T085727Z
UID:7997-1738425600-1738440000@muusikakool.ee
SUMMARY:Pärnu Muusikakool 80
DESCRIPTION:Laupäeval\, 1. veebruaril kell 16 \n\n\n\nPärnu Muusikakool 80. Kontsert-aktus \n\n\n\n\nKAVA\n\n\n\n\n \n\n\n\nLAVAL ÕPILASED\, ÕPETAJAD\, VILISTLASED – solistid\, ansamblid\, brass\, bigbänd\, sümfooniaorkester \n\n\n\nDirigendid Emily Urla\, Rein Vendla \n\n\n\nVaheajal vilistlaste vaba lava kammersaalis\, esineda soovijatel palume võtta ühendust \n\n\n\nMarge Lumisaluga marge.lumisalu@muusikakool.parnu.ee või telefonil 55621877.
URL:https://muusikakool.ee/sundmus/parnu-muusikakool-80/
LOCATION:Pärnu Kontserdimaja\, Aida 4\, Pärnu\, 80010\, Estonia
END:VEVENT
BEGIN:VEVENT
DTSTART;TZID=Europe/Tallinn:20250127T190000
DTEND;TZID=Europe/Tallinn:20250127T203000
DTSTAMP:20260419T224838
CREATED:20250116T110105Z
LAST-MODIFIED:20250126T140816Z
UID:8256-1738004400-1738009800@muusikakool.ee
SUMMARY:Pärnule - Laura Pähkel & Sten Heinoja
DESCRIPTION:Laura Pähkel\, Pärnust pärit flötist\, esitleb oma kodulinnas erilist kontsert-vestlusõhtut\, et tähistada Pärnu Muusikakooli 80. sünnipäeva\, tänada Pärnut\, kust kõik alguse sai ning kõiki oma toetajaid\, kelle abil on tema õpingud Londoni Kuninglikus Muusikakolledžis – maailmas juhtiva etenduskunstide institutsioonis – saanud võimalikuks. \n\n\n\nKontserdil astub koos Lauraga lavale nii solisti kui saatjana ka rahvusvaheliselt tunnustatud ja Eesti inimeste südamesse pugenud pianist Sten Heinoja\, kelle kammertöö ja soolokontserdid viivad teda üle kogu maailma. Õhtu on täis muusikat\, mis hõlmab nii Eesti heliloojate teoseid kui ka rahvusvahelist repertuaari. \n\n\n\nKontsert-vestlusõhtu raames jagavad Laura ja Sten oma kogemusi Londonist\, räägivad Pärnuga seotud mälestustest ja toovad kuulajateni elulised lood. Õhtu toob kokku sooja ja koduse atmosfääri\, kus saab naerda\, nutta ja nautida muusikat. Tule ja ühine meiega! \n\n\n\nPiletid müügil Fientas.
URL:https://muusikakool.ee/sundmus/parnule-laura-pahkel-sten-heinoja/
LOCATION:Pärnu Raekoda\, Nikolai 3\, Pärnu\, Estonia
END:VEVENT
BEGIN:VEVENT
DTSTART;TZID=Europe/Tallinn:20250127T160000
DTEND;TZID=Europe/Tallinn:20250127T170000
DTSTAMP:20260419T224838
CREATED:20250116T120409Z
LAST-MODIFIED:20250116T120410Z
UID:8272-1737993600-1737997200@muusikakool.ee
SUMMARY:Pärnu Muusikakooli rütmimuusikaosakonna solistide kontsert - tribüütkontsert The Beatles
DESCRIPTION:Sissepääs tasuta!
URL:https://muusikakool.ee/sundmus/parnu-muusikakooli-rutmimuusikaosakonna-solistide-kontsert-tribuutkontsert-the-beatles/
LOCATION:Pärnu Kontserdimaja kohvik Cello\, Aida 4\, Pärnu\, Estonia
END:VEVENT
BEGIN:VEVENT
DTSTART;TZID=Europe/Tallinn:20250123T180000
DTEND;TZID=Europe/Tallinn:20250123T190000
DTSTAMP:20260419T224838
CREATED:20250113T121641Z
LAST-MODIFIED:20250116T112902Z
UID:8254-1737655200-1737658800@muusikakool.ee
SUMMARY:Pärnu Muusikakooli Erko Niidu kitarriõpilaste ja ansamblite kontsert
DESCRIPTION:Eelmine aasta läks bändidega ja muude väga oluliste üritustega nii kiireks ja tihedaks\, et ei jõudnud paljusid lugusid ette kanda\, mis said varaemalt ajal ettevalmistatud.Nüüd on aga see aeg käes! \n\n\n\nLavale astuvad kõik Erko Niidu juures õppivad kitarriõpilased ja ansamblid ning näitavad millega nad on eelmine poolaasta tegelenud. \n\n\n\nKavas on nii jazzi\, bluesi kui ka popi ja natukenegi rocki. \n\n\n\nTulge kuulama! \n\n\n\nKontsert on tasuta! 
URL:https://muusikakool.ee/sundmus/parnu-muusikakooli-erko-niidu-kitarriopilaste-ja-ansamblite-kontsert/
LOCATION:Wunderbaar\, Lai 10/1\, Pärnu\, Estonia
END:VEVENT
BEGIN:VEVENT
DTSTART;TZID=Europe/Tallinn:20250118T160000
DTEND;TZID=Europe/Tallinn:20250118T170000
DTSTAMP:20260419T224838
CREATED:20241031T125327Z
LAST-MODIFIED:20250116T114021Z
UID:8185-1737216000-1737219600@muusikakool.ee
SUMMARY:Puhkpilliosakonna juubelikontsert vilistlastega. Pärnu Muusikakool 80
DESCRIPTION:
URL:https://muusikakool.ee/sundmus/puhkpilliosakonna-kontsert-vilistlastega-parnu-muusikakool-80/
LOCATION:Pärnu Kontserdimaja kammersaal\, Aida4\, Pärnu\, Estonia
END:VEVENT
BEGIN:VEVENT
DTSTART;TZID=Europe/Tallinn:20250118T140000
DTEND;TZID=Europe/Tallinn:20250118T150000
DTSTAMP:20260419T224838
CREATED:20241016T133918Z
LAST-MODIFIED:20250116T114202Z
UID:8090-1737208800-1737212400@muusikakool.ee
SUMMARY:Akordioni- ja kandleosakonna juubelikontsert vilistlastega Pärnu Raekojas. Pärnu Muusikakool 80
DESCRIPTION:
URL:https://muusikakool.ee/sundmus/akordioni-ja-kandleosakonna-juubelikontsert-vilistlastega/
LOCATION:Pärnu Raekoda\, Nikolai 3\, Pärnu\, Estonia
END:VEVENT
BEGIN:VEVENT
DTSTART;TZID=Europe/Tallinn:20241218T180000
DTEND;TZID=Europe/Tallinn:20241218T190000
DTSTAMP:20260419T224838
CREATED:20241016T122632Z
LAST-MODIFIED:20241016T122803Z
UID:8084-1734544800-1734548400@muusikakool.ee
SUMMARY:Maire Varma viiuliõpilaste jõulukontsert Pärnu Raekojas
DESCRIPTION:
URL:https://muusikakool.ee/sundmus/maire-varma-viiuliopilaste-joulukontsert-parnu-raekojas/
LOCATION:Pärnu Raekoda\, Nikolai 3\, Pärnu\, Estonia
END:VEVENT
BEGIN:VEVENT
DTSTART;TZID=Europe/Tallinn:20241217T190000
DTEND;TZID=Europe/Tallinn:20241217T203000
DTSTAMP:20260419T224838
CREATED:20241016T122503Z
LAST-MODIFIED:20241016T122526Z
UID:8082-1734462000-1734467400@muusikakool.ee
SUMMARY:Vaskpilliõpilaste jõulukontsert Pärnu Raekojas
DESCRIPTION:
URL:https://muusikakool.ee/sundmus/vaskpilliopilaste-joulukontsert-parnu-raekojas/
LOCATION:Pärnu Raekoda\, Nikolai 3\, Pärnu\, Estonia
END:VEVENT
BEGIN:VEVENT
DTSTART;TZID=Europe/Tallinn:20241217T173000
DTEND;TZID=Europe/Tallinn:20241217T183000
DTSTAMP:20260419T224838
CREATED:20241128T123226Z
LAST-MODIFIED:20241128T123304Z
UID:8230-1734456600-1734460200@muusikakool.ee
SUMMARY:Kitarriosakonna jõulukontsert Uue Kunsti Muuseumis
DESCRIPTION:
URL:https://muusikakool.ee/sundmus/kitarriosakonna-joulukontsert-uue-kunsti-muuseumis/
LOCATION:Pärnu
END:VEVENT
BEGIN:VEVENT
DTSTART;TZID=Europe/Tallinn:20241217T160000
DTEND;TZID=Europe/Tallinn:20241217T173000
DTSTAMP:20260419T224838
CREATED:20241022T101925Z
LAST-MODIFIED:20241022T101934Z
UID:8145-1734451200-1734456600@muusikakool.ee
SUMMARY:Aita Kaaveri lauluõpilaste jõulukontsert Pärnu Raekojas
DESCRIPTION:
URL:https://muusikakool.ee/sundmus/aita-kaaveri-lauluopilaste-joulukontsert-parnu-raekojas/
LOCATION:Pärnu Raekoda\, Nikolai 3\, Pärnu\, Estonia
END:VEVENT
BEGIN:VEVENT
DTSTART;TZID=Europe/Tallinn:20241216T180000
DTEND;TZID=Europe/Tallinn:20241216T190000
DTSTAMP:20260419T224838
CREATED:20241016T122356Z
LAST-MODIFIED:20241115T131957Z
UID:8080-1734372000-1734375600@muusikakool.ee
SUMMARY:Renata Marksalu klaveriõpilaste jõulukontsert Pärnu Raekojas
DESCRIPTION:
URL:https://muusikakool.ee/sundmus/renata-marksalu-klaveriopilaste-joulukontsert-3/
LOCATION:Pärnu Raekoda\, Nikolai 3\, Pärnu\, Estonia
END:VEVENT
END:VCALENDAR