BEGIN:VCALENDAR
VERSION:2.0
PRODID:-//Pärnu Muusikaool - ECPv6.15.17//NONSGML v1.0//EN
CALSCALE:GREGORIAN
METHOD:PUBLISH
X-WR-CALNAME:Pärnu Muusikaool
X-ORIGINAL-URL:https://muusikakool.ee
X-WR-CALDESC:Events for Pärnu Muusikaool
REFRESH-INTERVAL;VALUE=DURATION:PT1H
X-Robots-Tag:noindex
X-PUBLISHED-TTL:PT1H
BEGIN:VTIMEZONE
TZID:Europe/Tallinn
BEGIN:DAYLIGHT
TZOFFSETFROM:+0200
TZOFFSETTO:+0300
TZNAME:EEST
DTSTART:20220327T010000
END:DAYLIGHT
BEGIN:STANDARD
TZOFFSETFROM:+0300
TZOFFSETTO:+0200
TZNAME:EET
DTSTART:20221030T010000
END:STANDARD
BEGIN:DAYLIGHT
TZOFFSETFROM:+0200
TZOFFSETTO:+0300
TZNAME:EEST
DTSTART:20230326T010000
END:DAYLIGHT
BEGIN:STANDARD
TZOFFSETFROM:+0300
TZOFFSETTO:+0200
TZNAME:EET
DTSTART:20231029T010000
END:STANDARD
BEGIN:DAYLIGHT
TZOFFSETFROM:+0200
TZOFFSETTO:+0300
TZNAME:EEST
DTSTART:20240331T010000
END:DAYLIGHT
BEGIN:STANDARD
TZOFFSETFROM:+0300
TZOFFSETTO:+0200
TZNAME:EET
DTSTART:20241027T010000
END:STANDARD
END:VTIMEZONE
BEGIN:VEVENT
DTSTART;TZID=Europe/Tallinn:20231207T173000
DTEND;TZID=Europe/Tallinn:20231207T183000
DTSTAMP:20260420T075052
CREATED:20231102T144625Z
LAST-MODIFIED:20231202T134532Z
UID:7066-1701970200-1701973800@muusikakool.ee
SUMMARY:Ülle Petrovitši ja Imbi Haugase klaveriõpilaste jõulukontsert väikses saalis
DESCRIPTION:
URL:https://muusikakool.ee/sundmus/ulle-petrovitsi-opilaste-joulukontsert/
LOCATION:Pärnu Muusikakooli väike saal\, Aida 4\, Pärnu\, Pärnu\, 80010\, Estonia
END:VEVENT
BEGIN:VEVENT
DTSTART;TZID=Europe/Tallinn:20231205T180000
DTEND;TZID=Europe/Tallinn:20231205T190000
DTSTAMP:20260420T075052
CREATED:20231102T144313Z
LAST-MODIFIED:20231129T151544Z
UID:7064-1701799200-1701802800@muusikakool.ee
SUMMARY:Indrek Oseleini õpilaste jõulukontsert Pärnu Raekojas
DESCRIPTION:
URL:https://muusikakool.ee/sundmus/indrek-oseleini-opilaste-joulukontsert/
LOCATION:Pärnu Raekoda\, Nikolai 3\, Pärnu\, Estonia
END:VEVENT
BEGIN:VEVENT
DTSTART;TZID=Europe/Tallinn:20231202T160000
DTEND;TZID=Europe/Tallinn:20231202T170000
DTSTAMP:20260420T075052
CREATED:20231108T135601Z
LAST-MODIFIED:20231108T135746Z
UID:7135-1701532800-1701536400@muusikakool.ee
SUMMARY:Heategevuskontsert JÕULUOOTUS Tallinna Pühavaimu kirikus
DESCRIPTION:
URL:https://muusikakool.ee/sundmus/heategevuskontsert-jouluootus/
END:VEVENT
BEGIN:VEVENT
DTSTART;TZID=Europe/Tallinn:20231202T140000
DTEND;TZID=Europe/Tallinn:20231202T150000
DTSTAMP:20260420T075052
CREATED:20231011T123630Z
LAST-MODIFIED:20231129T150152Z
UID:7014-1701525600-1701529200@muusikakool.ee
SUMMARY:Leonora Palu ja Anne Rajaste õpilaste jõuluootuse kontsert Pärnu Raekojas
DESCRIPTION:
URL:https://muusikakool.ee/sundmus/leonora-palu-ja-anne-rajaste-opilaste-jouluootuse-kontsert/
LOCATION:Pärnu Raekoda\, Nikolai 3\, Pärnu\, Estonia
END:VEVENT
BEGIN:VEVENT
DTSTART;TZID=Europe/Tallinn:20231130T190000
DTEND;TZID=Europe/Tallinn:20231130T210000
DTSTAMP:20260420T075052
CREATED:20231107T132905Z
LAST-MODIFIED:20231107T133313Z
UID:7127-1701370800-1701378000@muusikakool.ee
SUMMARY:Rütmimuusika ansambli meistrikursused Pärnumaa muusikakoolidele
DESCRIPTION:Info ja registreerimine Eesti Rütmimuusika Hariduse Liidu kodulehel.
URL:https://muusikakool.ee/sundmus/rutmimuusika-ansambli-meistrikursused/
LOCATION:NeatBiit Stuudio\, Lai 10\, Pärnu\, 80010
END:VEVENT
BEGIN:VEVENT
DTSTART;TZID=Europe/Tallinn:20231125T000000
DTEND;TZID=Europe/Tallinn:20231126T235959
DTSTAMP:20260420T075052
CREATED:20230922T104452Z
LAST-MODIFIED:20230922T104601Z
UID:6893-1700870400-1701043199@muusikakool.ee
SUMMARY:Pärnu Kitarripäevad
DESCRIPTION:
URL:https://muusikakool.ee/sundmus/parnu-kitarripaevad/
LOCATION:Pärnu Muusikakool\, Aida 4\, Pärnu\, Pärnumaa\, 80010\, Estonia
END:VEVENT
BEGIN:VEVENT
DTSTART;TZID=Europe/Tallinn:20231123T180000
DTEND;TZID=Europe/Tallinn:20231123T190000
DTSTAMP:20260420T075052
CREATED:20231020T101241Z
LAST-MODIFIED:20231102T140907Z
UID:7033-1700762400-1700766000@muusikakool.ee
SUMMARY:Rütmimuusikaosakonna bändide kontsert Wunderbaaris
DESCRIPTION:
URL:https://muusikakool.ee/sundmus/rutmimuusikaosakonna-bandide-kontsert-wunderbaaris/
LOCATION:Wunderbaar\, Lai 10/1\, Pärnu\, Estonia
END:VEVENT
BEGIN:VEVENT
DTSTART;TZID=Europe/Tallinn:20231120T160000
DTEND;TZID=Europe/Tallinn:20231120T170000
DTSTAMP:20260420T075052
CREATED:20231020T101057Z
LAST-MODIFIED:20231102T145508Z
UID:7031-1700496000-1700499600@muusikakool.ee
SUMMARY:Rütmimuusikaosakonna solistide kontsert kohvikus Cello
DESCRIPTION:
URL:https://muusikakool.ee/sundmus/rutmimuusikaosakonna-solistide-kontsert-kohvikus-cello/
LOCATION:Pärnu Kontserdimaja kohvik Cello\, Aida 4\, Pärnu\, Estonia
END:VEVENT
BEGIN:VEVENT
DTSTART;TZID=Europe/Tallinn:20231120T150000
DTEND;TZID=Europe/Tallinn:20231120T170000
DTSTAMP:20260420T075052
CREATED:20230922T104305Z
LAST-MODIFIED:20231102T145459Z
UID:6891-1700492400-1700499600@muusikakool.ee
SUMMARY:Klaveriosakonna NOBENÄPUPÄEV kammersaalis
DESCRIPTION:Esinevad klaveriosakonna õpilased.
URL:https://muusikakool.ee/sundmus/klaveriosakonna-noenapupaev/
LOCATION:Pärnu Kontserdimaja kammersaal\, Aida4\, Pärnu\, Estonia
END:VEVENT
BEGIN:VEVENT
DTSTART;TZID=Europe/Tallinn:20231108T180000
DTEND;TZID=Europe/Tallinn:20231108T190000
DTSTAMP:20260420T075052
CREATED:20231012T101448Z
LAST-MODIFIED:20231102T145451Z
UID:7019-1699466400-1699470000@muusikakool.ee
SUMMARY:Kontsert MINU ESIMENE ESINEMINE 2 kammersaalis
DESCRIPTION:Esinevad esimese õppeaasta õpilased
URL:https://muusikakool.ee/sundmus/kontsert-minu-esimene-esinemine-2/
LOCATION:Pärnu Kontserdimaja kammersaal\, Aida4\, Pärnu\, Estonia
END:VEVENT
BEGIN:VEVENT
DTSTART;TZID=Europe/Tallinn:20231101T160000
DTEND;TZID=Europe/Tallinn:20231101T170000
DTSTAMP:20260420T075052
CREATED:20231016T102540Z
LAST-MODIFIED:20231102T145442Z
UID:7023-1698854400-1698858000@muusikakool.ee
SUMMARY:Rütmimuusikaosakonna solistide kontsert kohvikus Cello
DESCRIPTION:Esinevad Marge Lumisalu ja Ingrid Rabi õpilased.
URL:https://muusikakool.ee/sundmus/rutmimuusikaosakonna-solistide-kontsert-2/
LOCATION:Pärnu Kontserdimaja kohvik Cello\, Aida 4\, Pärnu\, Estonia
END:VEVENT
BEGIN:VEVENT
DTSTART;TZID=Europe/Tallinn:20231023T000000
DTEND;TZID=Europe/Tallinn:20231029T235959
DTSTAMP:20260420T075052
CREATED:20230928T095947Z
LAST-MODIFIED:20230928T095947Z
UID:6979-1698019200-1698623999@muusikakool.ee
SUMMARY:Koolivaheaeg
DESCRIPTION:
URL:https://muusikakool.ee/sundmus/koolivaheaeg-4/
END:VEVENT
BEGIN:VEVENT
DTSTART;TZID=Europe/Tallinn:20231018T180000
DTEND;TZID=Europe/Tallinn:20231018T190000
DTSTAMP:20260420T075052
CREATED:20230905T114440Z
LAST-MODIFIED:20231102T145424Z
UID:6853-1697652000-1697655600@muusikakool.ee
SUMMARY:Kontsert MINU ESIMENE ESINEMINE 1 kammersaalis
DESCRIPTION:Esinevad esimese õppeaasta õpilased
URL:https://muusikakool.ee/sundmus/kontsert-minu-esimene-esinemine/
LOCATION:Pärnu Kontserdimaja kammersaal\, Aida4\, Pärnu\, Estonia
END:VEVENT
BEGIN:VEVENT
DTSTART;TZID=Europe/Tallinn:20231005T160000
DTEND;TZID=Europe/Tallinn:20231005T170000
DTSTAMP:20260420T075052
CREATED:20230922T103937Z
LAST-MODIFIED:20230922T103937Z
UID:6888-1696521600-1696525200@muusikakool.ee
SUMMARY:EMTA tudengite kontsert kammersaalis
DESCRIPTION:Esinevad \n\n\n\nTriin Veissmann – viiulLisanna Laansalu – klaverKärt Käämbre  – klaver \n\n\n\nÜle-eestiline noorte interpreetide sügistuur. Kavas Lili Boulanger\, Isabella Leonarda\, Julius Eastman\, Helena Tulve\, Katrin Aller\, Gregor Kulla. Kontserdi pikkus 1 tund.
URL:https://muusikakool.ee/sundmus/emta-tudengite-kontsert-kammersaalis/
LOCATION:Pärnu Kontserdimaja kammersaal\, Aida4\, Pärnu\, Estonia
END:VEVENT
BEGIN:VEVENT
DTSTART;TZID=Europe/Tallinn:20230928T080000
DTEND;TZID=Europe/Tallinn:20230928T170000
DTSTAMP:20260420T075052
CREATED:20230928T101918Z
LAST-MODIFIED:20230928T101919Z
UID:6981-1695888000-1695920400@muusikakool.ee
SUMMARY:Muusikapäeva kontsert
DESCRIPTION:Rahvusvahelise muusikapäeva raames astuvad Eesti Lastekirjanduse Keskuses (Tallinn) üles Leonora Palu flöödiõpilased ja Anne Rajaste ning Indrek Oseleini klaveriõpilased. \n\n\n\n\nTallinn
URL:https://muusikakool.ee/sundmus/muusikapaeva-kontsert/
LOCATION:Eesti Lastekirjanduse keskuses\, Pikk 73\, Tallinn\, 10133\, Estonia
END:VEVENT
BEGIN:VEVENT
DTSTART;TZID=Europe/Tallinn:20230910T120000
DTEND;TZID=Europe/Tallinn:20230910T123000
DTSTAMP:20260420T075052
CREATED:20230905T112532Z
LAST-MODIFIED:20230905T112533Z
UID:6842-1694347200-1694349000@muusikakool.ee
SUMMARY:HUVIKA MESS
DESCRIPTION:Esineb Pärnu Sümfoniettorkester
URL:https://muusikakool.ee/sundmus/huvika-mess/
LOCATION:Pärnu Kaubamajakas\, Papiniidu 8\, Pärnu\, Estonia
END:VEVENT
BEGIN:VEVENT
DTSTART;TZID=Europe/Tallinn:20230908T173000
DTEND;TZID=Europe/Tallinn:20230908T183000
DTSTAMP:20260420T075052
CREATED:20230905T123551Z
LAST-MODIFIED:20230905T123552Z
UID:6857-1694194200-1694197800@muusikakool.ee
SUMMARY:Urmas Sisaski TÄHISTAEVAS JA MUUSIKA
DESCRIPTION:Esinevad Pärnu Muusikakooli klaveriõpilased
URL:https://muusikakool.ee/sundmus/urmas-sisaski-tahistaevas-ja-muusika/
LOCATION:Pernova Loodusmaja\, A. H.Tammsaare pst 57\, Pärnu\, Estonia
END:VEVENT
BEGIN:VEVENT
DTSTART;TZID=Europe/Tallinn:20230905T000000
DTEND;TZID=Europe/Tallinn:20230910T235959
DTSTAMP:20260420T075052
CREATED:20230905T113424Z
LAST-MODIFIED:20230905T114011Z
UID:6845-1693872000-1694390399@muusikakool.ee
SUMMARY:Projektinädal Pärnu Muusikakooli õpilastele
DESCRIPTION:Info ja registreerimine
URL:https://muusikakool.ee/sundmus/projektinadal-parnu-muusikakooli-opilastele/
END:VEVENT
BEGIN:VEVENT
DTSTART;TZID=Europe/Tallinn:20230901T170000
DTEND;TZID=Europe/Tallinn:20230901T180000
DTSTAMP:20260420T075052
CREATED:20230619T133725Z
LAST-MODIFIED:20230829T133305Z
UID:6610-1693587600-1693591200@muusikakool.ee
SUMMARY:Pärnu Muusikakooli avaaktus
DESCRIPTION:
URL:https://muusikakool.ee/sundmus/parnu-muusikakooli-avaaktus/
LOCATION:Pärnu Kontserdimaja suur saal\, Aida 4\, Pärnu\, Estonia
END:VEVENT
BEGIN:VEVENT
DTSTART;TZID=Europe/Tallinn:20230615T000000
DTEND;TZID=Europe/Tallinn:20230831T235959
DTSTAMP:20260420T075052
CREATED:20230111T130505Z
LAST-MODIFIED:20230111T130506Z
UID:6234-1686787200-1693526399@muusikakool.ee
SUMMARY:Koolivaheaeg
DESCRIPTION:
URL:https://muusikakool.ee/sundmus/koolivaheaeg-3/
END:VEVENT
BEGIN:VEVENT
DTSTART;TZID=Europe/Tallinn:20230608T150000
DTEND;TZID=Europe/Tallinn:20230608T163000
DTSTAMP:20260420T075052
CREATED:20230505T131044Z
LAST-MODIFIED:20230505T131044Z
UID:6561-1686236400-1686241800@muusikakool.ee
SUMMARY:Noorema astme lõpuaktus ja kiituskirjade üleandmine
DESCRIPTION:
URL:https://muusikakool.ee/sundmus/noorema-astme-lopuaktus-ja-kiituskirjade-uleandmine-2/
LOCATION:Pärnu Kontserdimaja kammersaal\, Aida4\, Pärnu\, Estonia
END:VEVENT
BEGIN:VEVENT
DTSTART;TZID=Europe/Tallinn:20230603T170000
DTEND;TZID=Europe/Tallinn:20230603T180000
DTSTAMP:20260420T075052
CREATED:20230505T131625Z
LAST-MODIFIED:20230525T150128Z
UID:6567-1685811600-1685815200@muusikakool.ee
SUMMARY:Tallinna Vanalinna Hariduskolleegiumi\, Keila ja Pärnu Muusikakooli varajase muusika ühiskontsert
DESCRIPTION:
URL:https://muusikakool.ee/sundmus/tallinna-vanalinna-hariduskolleegiumi-ja-parnu-muusikakooli-varajase-muusika-uhiskontsert/
LOCATION:Tallinna teatri- ja muusikamuuseum\, Müürivahe tänav 12\, Tallinn\, Estonia
END:VEVENT
BEGIN:VEVENT
DTSTART;TZID=Europe/Tallinn:20230602T200000
DTEND;TZID=Europe/Tallinn:20230602T210000
DTSTAMP:20260420T075052
CREATED:20230525T151048Z
LAST-MODIFIED:20230525T151048Z
UID:6603-1685736000-1685739600@muusikakool.ee
SUMMARY:Pärnu Rahvusvahelise Orelifestivali Avakontsert OREL KUTSUB!
DESCRIPTION:Avakontserdil esitleb festival pealekasvavat eesti orelipõlvkonda. Esinevad Pärnu Muusikakooli ja Tallinna kunstide kooli MUBA õpilased \n\n\n\nMarta Johanna Kärmas\, Herta Unt\, Maksim Petrov\, Maria-Lili Hunt\, Mia Johanna Rohula\, Maria Lehtlaan\, Magnus Saar\, Diana Shalyt.  \n\n\n\n5.00 – 15.00 € \n\n\n\n5.-15.- eurot. Sissepääs vaba annetusega
URL:https://muusikakool.ee/sundmus/parnu-rahvusvahelise-orelifestivali-avakontsert-orel-kutsub/
LOCATION:Eliisabeti kirik\, Nikolai 22\, Pärnu\, Estonia
END:VEVENT
BEGIN:VEVENT
DTSTART;TZID=Europe/Tallinn:20230531T150000
DTEND;TZID=Europe/Tallinn:20230531T160000
DTSTAMP:20260420T075052
CREATED:20230525T150407Z
LAST-MODIFIED:20230525T150515Z
UID:6600-1685545200-1685548800@muusikakool.ee
SUMMARY:Soome Kajaani Keskkooli muusikaklassi ja Pärnu Muusikakooli rütmimuusikaosakonna ühiskontsert
DESCRIPTION:
URL:https://muusikakool.ee/sundmus/soome-kajaani-keskkooli-muusikaklassi-ja-parnu-muusikakooli-rutmimuusikaosakonna-uhiskontsert/
LOCATION:Pärnu Kontserdimaja kammersaal\, Aida4\, Pärnu\, Estonia
END:VEVENT
BEGIN:VEVENT
DTSTART;TZID=Europe/Tallinn:20230531T000000
DTEND;TZID=Europe/Tallinn:20230531T235959
DTSTAMP:20260420T075052
CREATED:20230302T151521Z
LAST-MODIFIED:20230302T151526Z
UID:6378-1685491200-1685577599@muusikakool.ee
SUMMARY:Sisseastumiskatsed
DESCRIPTION:
URL:https://muusikakool.ee/sundmus/sisseastumiskatsed/
END:VEVENT
BEGIN:VEVENT
DTSTART;TZID=Europe/Tallinn:20230530T180000
DTEND;TZID=Europe/Tallinn:20230530T190000
DTSTAMP:20260420T075052
CREATED:20230317T073600Z
LAST-MODIFIED:20230317T073741Z
UID:6416-1685469600-1685473200@muusikakool.ee
SUMMARY:Aita Kaaveri lauluõpilaste kontsert
DESCRIPTION:
URL:https://muusikakool.ee/sundmus/aita-kaaveri-lauluopilaste-kontsert/
LOCATION:Pärnu Raekoda\, Nikolai 3\, Pärnu\, Pärnu\, 80010\, Estonia
END:VEVENT
BEGIN:VEVENT
DTSTART;TZID=Europe/Tallinn:20230529T170000
DTEND;TZID=Europe/Tallinn:20230529T180000
DTSTAMP:20260420T075052
CREATED:20230505T130608Z
LAST-MODIFIED:20230525T150248Z
UID:6557-1685379600-1685383200@muusikakool.ee
SUMMARY:Tallinna Vanalinna Hariduskolleegiumi\, Keila ja Pärnu Muusikakooli ühiskontsert
DESCRIPTION:
URL:https://muusikakool.ee/sundmus/tallinna-vanalinna-hariduskolleegiumi-ja-parnu-muusikakooli-uhiskontsert/
LOCATION:Pärnu Kontserdimaja kammersaal\, Aida4\, Pärnu\, Estonia
END:VEVENT
BEGIN:VEVENT
DTSTART;TZID=Europe/Tallinn:20230529T000000
DTEND;TZID=Europe/Tallinn:20230530T235959
DTSTAMP:20260420T075052
CREATED:20230302T151426Z
LAST-MODIFIED:20230302T151429Z
UID:6376-1685318400-1685491199@muusikakool.ee
SUMMARY:Sisseastumiskatsete konsultatsioonid
DESCRIPTION:
URL:https://muusikakool.ee/sundmus/sisseastumiskatsete-konsultatsioonid/
END:VEVENT
BEGIN:VEVENT
DTSTART;TZID=Europe/Tallinn:20230527T180000
DTEND;TZID=Europe/Tallinn:20230527T190000
DTSTAMP:20260420T075052
CREATED:20221031T181211Z
LAST-MODIFIED:20230111T124951Z
UID:5461-1685210400-1685214000@muusikakool.ee
SUMMARY:PÄRNU MUUSIKAKOOLI LÕPUAKTUS Pärnu Kontserdimaja suures saalis
DESCRIPTION:
URL:https://muusikakool.ee/sundmus/lopuaktus/
LOCATION:Pärnu Kontserdimaja suur saal\, Aida 4\, Pärnu\, Estonia
END:VEVENT
BEGIN:VEVENT
DTSTART;TZID=Europe/Tallinn:20230523T173000
DTEND;TZID=Europe/Tallinn:20230523T190000
DTSTAMP:20260420T075052
CREATED:20230303T084406Z
LAST-MODIFIED:20230303T084412Z
UID:6380-1684863000-1684868400@muusikakool.ee
SUMMARY:Lõpetajate kontsert Pärnu Raekojas
DESCRIPTION:
URL:https://muusikakool.ee/sundmus/lopetajate-kontsert-parnu-raekojas/
LOCATION:Pärnu Raekoda\, Nikolai 3\, Pärnu\, Estonia
END:VEVENT
END:VCALENDAR