BEGIN:VCALENDAR
VERSION:2.0
PRODID:-//Pärnu Muusikaool - ECPv6.15.17//NONSGML v1.0//EN
CALSCALE:GREGORIAN
METHOD:PUBLISH
X-ORIGINAL-URL:https://muusikakool.ee
X-WR-CALDESC:Events for Pärnu Muusikaool
REFRESH-INTERVAL;VALUE=DURATION:PT1H
X-Robots-Tag:noindex
X-PUBLISHED-TTL:PT1H
BEGIN:VTIMEZONE
TZID:Europe/Tallinn
BEGIN:DAYLIGHT
TZOFFSETFROM:+0200
TZOFFSETTO:+0300
TZNAME:EEST
DTSTART:20240331T010000
END:DAYLIGHT
BEGIN:STANDARD
TZOFFSETFROM:+0300
TZOFFSETTO:+0200
TZNAME:EET
DTSTART:20241027T010000
END:STANDARD
BEGIN:DAYLIGHT
TZOFFSETFROM:+0200
TZOFFSETTO:+0300
TZNAME:EEST
DTSTART:20250330T010000
END:DAYLIGHT
BEGIN:STANDARD
TZOFFSETFROM:+0300
TZOFFSETTO:+0200
TZNAME:EET
DTSTART:20251026T010000
END:STANDARD
BEGIN:DAYLIGHT
TZOFFSETFROM:+0200
TZOFFSETTO:+0300
TZNAME:EEST
DTSTART:20260329T010000
END:DAYLIGHT
BEGIN:STANDARD
TZOFFSETFROM:+0300
TZOFFSETTO:+0200
TZNAME:EET
DTSTART:20261025T010000
END:STANDARD
BEGIN:DAYLIGHT
TZOFFSETFROM:+0200
TZOFFSETTO:+0300
TZNAME:EEST
DTSTART:20270328T010000
END:DAYLIGHT
BEGIN:STANDARD
TZOFFSETFROM:+0300
TZOFFSETTO:+0200
TZNAME:EET
DTSTART:20271031T010000
END:STANDARD
END:VTIMEZONE
BEGIN:VEVENT
DTSTART;TZID=Europe/Tallinn:20260411T120000
DTEND;TZID=Europe/Tallinn:20260411T130000
DTSTAMP:20260419T181351
CREATED:20260325T082048Z
LAST-MODIFIED:20260325T082048Z
UID:52017-1775908800-1775912400@muusikakool.ee
SUMMARY:Külli Vabriti klaveriõpilaste kevadkontsert väikses saalis
DESCRIPTION:
URL:https://muusikakool.ee/sundmus/kulli-vabriti-klaveriopilaste-kevadkontsert-vaikses-saalis/
LOCATION:Pärnu Muusikakooli väike saal\, Aida 4\, Pärnu\, Pärnu\, 80010\, Estonia
END:VEVENT
BEGIN:VEVENT
DTSTART;TZID=Europe/Tallinn:20260408T150000
DTEND;TZID=Europe/Tallinn:20260408T160000
DTSTAMP:20260419T181351
CREATED:20260204T113923Z
LAST-MODIFIED:20260318T161339Z
UID:51910-1775660400-1775664000@muusikakool.ee
SUMMARY:Soololaulu õpilaste kontsert väikses saalis
DESCRIPTION:
URL:https://muusikakool.ee/sundmus/soololaulu-opilaste-kontsert-vaikses-saalis/
LOCATION:Pärnu Muusikakooli väike saal\, Aida 4\, Pärnu\, Pärnu\, 80010\, Estonia
END:VEVENT
BEGIN:VEVENT
DTSTART;TZID=Europe/Tallinn:20260408T120000
DTEND;TZID=Europe/Tallinn:20260408T170000
DTSTAMP:20260419T181351
CREATED:20260204T112145Z
LAST-MODIFIED:20260204T112309Z
UID:51903-1775649600-1775667600@muusikakool.ee
SUMMARY:Lääne-Pärnu regiooni klaverimuusika päev
DESCRIPTION:
URL:https://muusikakool.ee/sundmus/laane-parnu-regiooni-klaverimuusika-paev/
LOCATION:Pärnu Kontserdimaja kammersaal\, Aida4\, Pärnu\, Estonia
END:VEVENT
BEGIN:VEVENT
DTSTART;TZID=Europe/Tallinn:20260407T170000
DTEND;TZID=Europe/Tallinn:20260407T180000
DTSTAMP:20260419T181351
CREATED:20260318T160213Z
LAST-MODIFIED:20260324T125845Z
UID:51992-1775581200-1775584800@muusikakool.ee
SUMMARY:Indrek Oseleini klaveriõpilaste kevadkontsert sessiooniruumis
DESCRIPTION:
URL:https://muusikakool.ee/sundmus/indrek-oseleini-klaveriopilaste-kevadkontsert-sessiooniruumis/
LOCATION:Pärnu Kontserdimaja sessiooniruum\, Aida 4\, Pärnu\, 80010\, Estonia
END:VEVENT
BEGIN:VEVENT
DTSTART;TZID=Europe/Tallinn:20260406T190000
DTEND;TZID=Europe/Tallinn:20260406T203000
DTSTAMP:20260419T181351
CREATED:20260325T080749Z
LAST-MODIFIED:20260325T081710Z
UID:52006-1775502000-1775507400@muusikakool.ee
SUMMARY:Rahvusvaheliste trompetipäevade avakontsert
DESCRIPTION:https://fienta.com/et/international-trumpet-days-springtime-brass-sounds-in-parnu: Vabariiklik plokkflöödiansamblite päev Kunstide Kooli sinises saalis
URL:https://muusikakool.ee/sundmus/rahvusvaheliste-trompetipaevade-avakontsert/
LOCATION:Pärnu Kontserdimaja kammersaal\, Aida4\, Pärnu\, Estonia
ORGANIZER;CN="Aavo Otsa Muusikastuudio":MAILTO:info@musicstudio.ee
END:VEVENT
BEGIN:VEVENT
DTSTART;TZID=Europe/Tallinn:20260402T180000
DTEND;TZID=Europe/Tallinn:20260402T190000
DTSTAMP:20260419T181351
CREATED:20260204T113729Z
LAST-MODIFIED:20260318T155453Z
UID:51908-1775152800-1775156400@muusikakool.ee
SUMMARY:Rütmimuusikaosakonna bändide kontsert Wunderbaaris
DESCRIPTION:
URL:https://muusikakool.ee/sundmus/rutmimuusikaosakonna-bandide-kontsert-wunderbaaris-6/
LOCATION:Wunderbaar\, Lai 10/1\, Pärnu\, Estonia
END:VEVENT
BEGIN:VEVENT
DTSTART;TZID=Europe/Tallinn:20260401T180000
DTEND;TZID=Europe/Tallinn:20260401T193000
DTSTAMP:20260419T181351
CREATED:20260204T114142Z
LAST-MODIFIED:20260318T154848Z
UID:51912-1775066400-1775071800@muusikakool.ee
SUMMARY:Pärnu Muusikakooli sümfooniaorkestri kevadkontsert kammersaalis
DESCRIPTION:
URL:https://muusikakool.ee/sundmus/parnu-muusikakooli-sumfooniaorkestri-kevadkontsert-kammersaalis/
LOCATION:Pärnu Kontserdimaja kammersaal\, Aida4\, Pärnu\, Estonia
END:VEVENT
BEGIN:VEVENT
DTSTART;TZID=Europe/Tallinn:20260326T180000
DTEND;TZID=Europe/Tallinn:20260326T190000
DTSTAMP:20260419T181351
CREATED:20250910T103504Z
LAST-MODIFIED:20260204T111524Z
UID:17314-1774548000-1774551600@muusikakool.ee
SUMMARY:Muusa puudutus
DESCRIPTION:Sel aastal juba kaheksandat korda toimuval traditsioonilisel kontserdil “Muusa Puudutus” astuvad esmakordselt üles noored paljulubavad talendid üle kogu Lääne-Eesti. Soleerivad mitmete muusikakoolide õpilased ja vilistlased ning kontserdi finaaliks liitub Pärnu Linnaorkestriga ka Pärnu muusikakooli ühendorkester. \n\n\n\nPärnu Linnaorkesterdirigent Mikk Murdvee
URL:https://muusikakool.ee/sundmus/muusa-puudutus/
LOCATION:Pärnu Kontserdimaja suur saal\, Aida 4\, Pärnu\, Estonia
END:VEVENT
BEGIN:VEVENT
DTSTART;TZID=Europe/Tallinn:20260319T180000
DTEND;TZID=Europe/Tallinn:20260319T190000
DTSTAMP:20260419T181351
CREATED:20260318T154550Z
LAST-MODIFIED:20260318T154550Z
UID:51983-1773943200-1773946800@muusikakool.ee
SUMMARY:Erko Niidu rütmimuusikaosakonna õpilaste kontsert
DESCRIPTION:
URL:https://muusikakool.ee/sundmus/erko-niidu-rutmimuusikaosakonna-opilaste-kontsert/
LOCATION:Wunderbaar\, Lai 10/1\, Pärnu\, Estonia
END:VEVENT
BEGIN:VEVENT
DTSTART;TZID=Europe/Tallinn:20260316T160000
DTEND;TZID=Europe/Tallinn:20260316T170000
DTSTAMP:20260419T181351
CREATED:20260204T113534Z
LAST-MODIFIED:20260305T114607Z
UID:51906-1773676800-1773680400@muusikakool.ee
SUMMARY:Rütmimuusikaosakonna solistide kontsert kohvikus Cello
DESCRIPTION:
URL:https://muusikakool.ee/sundmus/rutmimuusikaosakonna-solistide-kontsert-kohvikus-cello-8/
LOCATION:Pärnu Kontserdimaja kohvik Cello\, Aida 4\, Pärnu\, Estonia
END:VEVENT
BEGIN:VEVENT
DTSTART;TZID=Europe/Tallinn:20260316T110000
DTEND;TZID=Europe/Tallinn:20260316T170000
DTSTAMP:20260419T181351
CREATED:20260128T094828Z
LAST-MODIFIED:20260128T135820Z
UID:51851-1773658800-1773680400@muusikakool.ee
SUMMARY:EML Lääne-Pärnu regiooni viiuliõpilaste konkurss
DESCRIPTION:
URL:https://muusikakool.ee/sundmus/eml-laane-parnu-regiooni-viiuliopilaste-konkurss/
LOCATION:Pärnu Kontserdimaja kammersaal\, Aida4\, Pärnu\, Estonia
END:VEVENT
BEGIN:VEVENT
DTSTART;TZID=Europe/Tallinn:20260312T170000
DTEND;TZID=Europe/Tallinn:20260312T180000
DTSTAMP:20260419T181351
CREATED:20260305T114757Z
LAST-MODIFIED:20260305T114943Z
UID:51967-1773334800-1773338400@muusikakool.ee
SUMMARY:Anu Männi Pärnu ja Sindi Muusikakooli viiuliõpilaste kevadkontsert
DESCRIPTION:
URL:https://muusikakool.ee/sundmus/anu-manni-parnu-ja-sindi-muusikakooli-viiuliopilaste-kevadkontsert/
LOCATION:SIndi Muusikakool\, Kooli tänav 9\, Sindi\, 86703\, Estonia
END:VEVENT
BEGIN:VEVENT
DTSTART;TZID=Europe/Tallinn:20260220T110000
DTEND;TZID=Europe/Tallinn:20260220T170000
DTSTAMP:20260419T181351
CREATED:20260128T094637Z
LAST-MODIFIED:20260128T094637Z
UID:51849-1771585200-1771606800@muusikakool.ee
SUMMARY:EML Lääne-Pärnu regiooni kitarriõpilaste konkurss- festival
DESCRIPTION:
URL:https://muusikakool.ee/sundmus/eml-laane-parnu-regiooni-kitarriopilaste-konkurss-festival/
LOCATION:Pärnu Kontserdimaja kammersaal\, Aida4\, Pärnu\, Estonia
END:VEVENT
BEGIN:VEVENT
DTSTART;TZID=Europe/Tallinn:20260218T180000
DTEND;TZID=Europe/Tallinn:20260218T190000
DTSTAMP:20260419T181351
CREATED:20260120T154931Z
LAST-MODIFIED:20260120T155000Z
UID:51845-1771437600-1771441200@muusikakool.ee
SUMMARY:Pärnu Muusikakooli rütmimuusikaosakonna bändide kontsert
DESCRIPTION:
URL:https://muusikakool.ee/sundmus/parnu-muusikakooli-bandide-kontsert/
LOCATION:Wunderbaar\, Lai 10/1\, Pärnu\, Estonia
END:VEVENT
BEGIN:VEVENT
DTSTART;TZID=Europe/Tallinn:20260211T150000
DTEND;TZID=Europe/Tallinn:20260211T160000
DTSTAMP:20260419T181351
CREATED:20260120T154610Z
LAST-MODIFIED:20260120T154729Z
UID:51841-1770822000-1770825600@muusikakool.ee
SUMMARY:Marge Lumisalu\, Laura Junsoni ja Ingrid Rabi soololaulu õpilaste kontsert
DESCRIPTION:
URL:https://muusikakool.ee/sundmus/marge-lumisalu-laura-junsoni-ja-ingrid-rabi-soololaulu-opilaste-kontsert/
LOCATION:Pärnu Muusikakooli väike saal\, Aida 4\, Pärnu\, Pärnu\, 80010\, Estonia
END:VEVENT
BEGIN:VEVENT
DTSTART;TZID=Europe/Tallinn:20260210T180000
DTEND;TZID=Europe/Tallinn:20260210T190000
DTSTAMP:20260419T181351
CREATED:20260120T154225Z
LAST-MODIFIED:20260120T154225Z
UID:51835-1770746400-1770750000@muusikakool.ee
SUMMARY:Perekontsert
DESCRIPTION:
URL:https://muusikakool.ee/sundmus/perekontsert/
LOCATION:Pärnu Kontserdimaja kammersaal\, Aida4\, Pärnu\, Estonia
END:VEVENT
BEGIN:VEVENT
DTSTART;TZID=Europe/Tallinn:20260126T160000
DTEND;TZID=Europe/Tallinn:20260126T170000
DTSTAMP:20260419T181351
CREATED:20260120T154429Z
LAST-MODIFIED:20260120T154458Z
UID:51837-1769443200-1769446800@muusikakool.ee
SUMMARY:Pärnu Muusikakooli rütmimuusikaosakonna solistide kontsert
DESCRIPTION:
URL:https://muusikakool.ee/sundmus/parnu-muusikakooli-solistide-kontsert/
LOCATION:Pärnu Kontserdimaja kohvik Cello\, Aida 4\, Pärnu\, Estonia
END:VEVENT
BEGIN:VEVENT
DTSTART;TZID=Europe/Tallinn:20260115T180000
DTEND;TZID=Europe/Tallinn:20260115T190000
DTSTAMP:20260419T181351
CREATED:20250910T103158Z
LAST-MODIFIED:20260109T125432Z
UID:17312-1768500000-1768503600@muusikakool.ee
SUMMARY:Õpetajate kontsert
DESCRIPTION:
URL:https://muusikakool.ee/sundmus/opetajate-kontsert/
LOCATION:Pärnu Kontserdimaja kammersaal\, Aida4\, Pärnu\, Estonia
END:VEVENT
BEGIN:VEVENT
DTSTART;TZID=Europe/Tallinn:20251218T170000
DTEND;TZID=Europe/Tallinn:20251218T180000
DTSTAMP:20260419T181351
CREATED:20251125T172036Z
LAST-MODIFIED:20251127T125240Z
UID:42310-1766077200-1766080800@muusikakool.ee
SUMMARY:Leonora Palu flöödi- ja improvisatsiooniõpilaste kontsert
DESCRIPTION:
URL:https://muusikakool.ee/sundmus/leonora-palu-floodi-ja-improvisatsiooniopilaste-kontsert/
LOCATION:Pärnu Kontserdimaja sessiooniruum\, Aida 4\, Pärnu\, 80010\, Estonia
END:VEVENT
BEGIN:VEVENT
DTSTART;TZID=Europe/Tallinn:20251217T170000
DTEND;TZID=Europe/Tallinn:20251217T180000
DTSTAMP:20260419T181351
CREATED:20250910T103047Z
LAST-MODIFIED:20251127T125646Z
UID:17310-1765990800-1765994400@muusikakool.ee
SUMMARY:Marika Kapi klaveriõpilaste jõulukontsert
DESCRIPTION:
URL:https://muusikakool.ee/sundmus/marika-kapi-klaveriopilaste-joulukontsert-2/
LOCATION:Pärnu Kontserdimaja sessiooniruum\, Aida 4\, Pärnu\, 80010\, Estonia
END:VEVENT
BEGIN:VEVENT
DTSTART;TZID=Europe/Tallinn:20251217T140000
DTEND;TZID=Europe/Tallinn:20251217T150000
DTSTAMP:20260419T181351
CREATED:20251125T171828Z
LAST-MODIFIED:20251125T171926Z
UID:42306-1765980000-1765983600@muusikakool.ee
SUMMARY:Laura Junsoni\, Ingrid Rabi ja Marge Lumisalu soololaulu õpilaste jõulukontsert
DESCRIPTION:
URL:https://muusikakool.ee/sundmus/laura-junsoni-ingrid-rabi-ja-marge-lumisalu-soololaulu-opilaste-joulukontsert/
LOCATION:Pärnu Muusikakooli väike saal\, Aida 4\, Pärnu\, Pärnu\, 80010\, Estonia
END:VEVENT
BEGIN:VEVENT
DTSTART;TZID=Europe/Tallinn:20251216T180000
DTEND;TZID=Europe/Tallinn:20251216T190000
DTSTAMP:20260419T181351
CREATED:20251125T171519Z
LAST-MODIFIED:20251127T125120Z
UID:42302-1765908000-1765911600@muusikakool.ee
SUMMARY:Imbi Haugase klaveriõpilaste kontsert
DESCRIPTION:
URL:https://muusikakool.ee/sundmus/imbi-haugase-klaveriopilaste-kontsert/
LOCATION:Pärnu Muusikakooli väike saal\, Aida 4\, Pärnu\, Pärnu\, 80010\, Estonia
END:VEVENT
BEGIN:VEVENT
DTSTART;TZID=Europe/Tallinn:20251216T163000
DTEND;TZID=Europe/Tallinn:20251216T173000
DTSTAMP:20260419T181351
CREATED:20251125T171400Z
LAST-MODIFIED:20251126T130000Z
UID:42300-1765902600-1765906200@muusikakool.ee
SUMMARY:Helina Tamme ja Aivo Luhaoja klaveri-\, klarneti- ja saksofoniõpilaste jõulukontsert
DESCRIPTION:
URL:https://muusikakool.ee/sundmus/helina-tamme-ja-aivo-luhaoja-klaveri-ja-saksofoniopilaste-joulukontsert/
LOCATION:Pärnu Kontserdimaja sessiooniruum\, Aida 4\, Pärnu\, 80010\, Estonia
END:VEVENT
BEGIN:VEVENT
DTSTART;TZID=Europe/Tallinn:20251215T190000
DTEND;TZID=Europe/Tallinn:20251215T200000
DTSTAMP:20260419T181351
CREATED:20250910T102856Z
LAST-MODIFIED:20251127T125036Z
UID:17308-1765825200-1765828800@muusikakool.ee
SUMMARY:Vaskpilliõpilaste jõulukontsert kammersaalis
DESCRIPTION:
URL:https://muusikakool.ee/sundmus/vaskpilliopilaste-joulukontsert-kammersaalis/
LOCATION:Pärnu Kontserdimaja kammersaal\, Aida4\, Pärnu\, Estonia
END:VEVENT
BEGIN:VEVENT
DTSTART;TZID=Europe/Tallinn:20251215T160000
DTEND;TZID=Europe/Tallinn:20251215T170000
DTSTAMP:20260419T181351
CREATED:20251013T093958Z
LAST-MODIFIED:20251125T164823Z
UID:17362-1765814400-1765818000@muusikakool.ee
SUMMARY:Rütmimuusikaosakonna solistide kontsert
DESCRIPTION:
URL:https://muusikakool.ee/sundmus/rutmimuusikaosakonna-solistide-kontsert-5/
LOCATION:Pärnu Kontserdimaja kohvik Cello\, Aida 4\, Pärnu\, Estonia
END:VEVENT
BEGIN:VEVENT
DTSTART;TZID=Europe/Tallinn:20251213T160000
DTEND;TZID=Europe/Tallinn:20251213T170000
DTSTAMP:20260419T181351
CREATED:20251125T165459Z
LAST-MODIFIED:20251125T165802Z
UID:42296-1765641600-1765645200@muusikakool.ee
SUMMARY:Emily Urla saksofoniõpilaste kontsert Ülejõe põhikoolis
DESCRIPTION:
URL:https://muusikakool.ee/sundmus/emily-urla-saksofoniopilaste-kontsert-ulejoe-pohikoolis/
END:VEVENT
BEGIN:VEVENT
DTSTART;TZID=Europe/Tallinn:20251213T120000
DTEND;TZID=Europe/Tallinn:20251213T130000
DTSTAMP:20260419T181351
CREATED:20250910T102724Z
LAST-MODIFIED:20251125T164651Z
UID:17306-1765627200-1765630800@muusikakool.ee
SUMMARY:Elo Kalda kandleõpilaste kontsert sessiooniruuis
DESCRIPTION:
URL:https://muusikakool.ee/sundmus/elo-kalda-kandleopilaste-kontsert-sessiooniruuis/
LOCATION:Pärnu Kontserdimaja sessiooniruum\, Aida 4\, Pärnu\, 80010\, Estonia
END:VEVENT
BEGIN:VEVENT
DTSTART;TZID=Europe/Tallinn:20251212T170000
DTEND;TZID=Europe/Tallinn:20251212T180000
DTSTAMP:20260419T181351
CREATED:20251125T164930Z
LAST-MODIFIED:20251127T124903Z
UID:42290-1765558800-1765562400@muusikakool.ee
SUMMARY:Heli Sommeri tšelloõpilaste kontsert Sindi Muusikakoolis
DESCRIPTION:
URL:https://muusikakool.ee/sundmus/heli-sommeri-tselloopilaste-kontsert-sindi-muusikakoolis/
LOCATION:SIndi Muusikakool\, Kooli tänav 9\, Sindi\, 86703\, Estonia
END:VEVENT
BEGIN:VEVENT
DTSTART;TZID=Europe/Tallinn:20251211T180000
DTEND;TZID=Europe/Tallinn:20251211T190000
DTSTAMP:20260419T181351
CREATED:20250922T131117Z
LAST-MODIFIED:20251125T164513Z
UID:17327-1765476000-1765479600@muusikakool.ee
SUMMARY:Rütmimuusikaosakonna bändide kontsert Wunderbaaris
DESCRIPTION:
URL:https://muusikakool.ee/sundmus/rutmimuusikaosakonna-bandide-kontsert-wunderbaaris-5/
LOCATION:Wunderbaar\, Lai 10/1\, Pärnu\, Estonia
END:VEVENT
BEGIN:VEVENT
DTSTART;TZID=Europe/Tallinn:20251210T170000
DTEND;TZID=Europe/Tallinn:20251210T180000
DTSTAMP:20260419T181351
CREATED:20251125T163849Z
LAST-MODIFIED:20251127T124817Z
UID:42278-1765386000-1765389600@muusikakool.ee
SUMMARY:Aaro Tetsmanni oreliõpilaste kontsert
DESCRIPTION:
URL:https://muusikakool.ee/sundmus/aaro-tetsmanni-oreliopilaste-kontsert-2/
LOCATION:Eliisabeti kirik\, Nikolai 22\, Pärnu\, Estonia
END:VEVENT
END:VCALENDAR